BEGIN:VCALENDAR
VERSION:2.0
PRODID:-//Fichtenkamm Reisen - ECPv5.12.3//NONSGML v1.0//EN
CALSCALE:GREGORIAN
METHOD:PUBLISH
X-WR-CALNAME:Fichtenkamm Reisen
X-ORIGINAL-URL:https://fichtenkamm.de
X-WR-CALDESC:Veranstaltungen für Fichtenkamm Reisen
BEGIN:VTIMEZONE
TZID:Europe/Berlin
BEGIN:DAYLIGHT
TZOFFSETFROM:+0100
TZOFFSETTO:+0200
TZNAME:CEST
DTSTART:20240331T010000
END:DAYLIGHT
BEGIN:STANDARD
TZOFFSETFROM:+0200
TZOFFSETTO:+0100
TZNAME:CET
DTSTART:20241027T010000
END:STANDARD
END:VTIMEZONE
BEGIN:VEVENT
DTSTART;VALUE=DATE:20241212
DTEND;VALUE=DATE:20241213
DTSTAMP:20260422T151650
CREATED:20240924T143056Z
LAST-MODIFIED:20240924T143056Z
UID:15146-1733961600-1734047999@fichtenkamm.de
SUMMARY:Lindauer Hafenweihnacht
DESCRIPTION:Mit ihr beginnt er wieder…der magische Lichterzauber\, der verführerische Duft nach Glühwein\, Eierpunsch\, heißer Schokolade – und die Vorfreude auf ein Weihnachtsfest wie aus dem Bilderbuch. Nirgendwo ist die Kulisse romantischer: direkt am Bodensee\, das schimmernde Alpenpanorama in der Ferne.
URL:https://fichtenkamm.de/reise/lindauer-hafenweihnacht-3/
CATEGORIES:Tagesreisen,Weihnachtsmärkte
ATTACH;FMTTYPE=image/jpeg:https://fichtenkamm.de/wp-content/uploads/2021/09/3Fotolia_4061522_Lindau.jpg
END:VEVENT
END:VCALENDAR