BEGIN:VCALENDAR
VERSION:2.0
PRODID:-//Fichtenkamm Reisen - ECPv5.12.3//NONSGML v1.0//EN
CALSCALE:GREGORIAN
METHOD:PUBLISH
X-WR-CALNAME:Fichtenkamm Reisen
X-ORIGINAL-URL:https://fichtenkamm.de
X-WR-CALDESC:Veranstaltungen fÃ¼r Fichtenkamm Reisen
BEGIN:VTIMEZONE
TZID:Europe/Berlin
BEGIN:DAYLIGHT
TZOFFSETFROM:+0100
TZOFFSETTO:+0200
TZNAME:CEST
DTSTART:20250330T010000
END:DAYLIGHT
BEGIN:STANDARD
TZOFFSETFROM:+0200
TZOFFSETTO:+0100
TZNAME:CET
DTSTART:20251026T010000
END:STANDARD
END:VTIMEZONE
BEGIN:VEVENT
DTSTART;VALUE=DATE:20250727
DTEND;VALUE=DATE:20250803
DTSTAMP:20260422T072339
CREATED:20250117T120034Z
LAST-MODIFIED:20250117T120034Z
UID:15316-1753574400-1754179199@fichtenkamm.de
SUMMARY:Lermoos & Schloss Linderhof
DESCRIPTION:Die Tiroler Zugspitz-Arena besteht aus 8 kleinen charmanten Orten: Ehrwald\, Lermoos\, Berwang\, Biberwier\, Heiterwang\, Bichlbach\, LÃ¤hn-Wengle und Namlos. Hauptattraktion ist die Zugspitze\, mit ihren 2.962 m der hÃ¶chste Berg Deutschlands. Mit der Tiroler Zugspitzbahn erreichen Sie in nur 10 Minuten den Gipfel. Von der Aussichtsterrasse aus kÃ¶nnen Sie bei klarer Sicht u.a. den GroÃŸglockner\, den Piz Bernina sowie den Fernsehturm in MÃ¼nchen sehen. Das atemberaubende Panorama der Zugspitze wird Sie entzÃ¼cken. \n  \n 1. Tag: Anreise \nDurch das AllgÃ¤u erreichen Sie Lermoos\, herrlich gelegen am FuÃŸe der Zugspitze. Im Hotel Edelweiss heiÃŸt man Sie herzlich willkommen. Nach dem Zimmerbezug kÃ¶nnen Sie einen ersten Erkundungsgang unternehmen. Gemeinsames Abendessen im Hotelrestaurant. \n  \n 2. Tag: Schloss Linderhof &#8211; Oberammergau\n \nNach dem FrÃ¼hstÃ¼ck starten Sie mit Ihrem Reiseleiter zum Schloss Linderhof. Die â€žKÃ¶nigliche Villaâ€œ ist das kleinste der drei SchlÃ¶sser Ludwigs II. Es ist das einzige\, das noch zu seinen Lebzeiten vollendet wurde. Linderhof gilt als das Lieblingsschloss des â€žMÃ¤rchenkÃ¶nigsâ€œ. Entdecken Sie es bei einer gefÃ¼hrten Innenbesichtigung. Begleitet von herrlichen Panoramen fahren Sie weiter in den Passionsspielort Oberammergau. Flanieren Sie hier und bewundern Sie die bekannten LÃ¼ftlmalereien. Auf dem RÃ¼ckweg zum Hotel besuchen Sie noch das Kloster Ettal. \n  \n 3. Tag:Â  PÃ¤sse-Rundfahrt\n \nHeute besuchen Sie mit Ihrem Reiseleiter AusstellungsrÃ¤ume fÃ¼r Holzschnitzereien im Geierwallyort Elbigenalp\, typisch fÃ¼r diese Region. Der Nobelskiort Lech am Arlberg ist Ihr nÃ¤chstes Ziel. Ãœber PÃ¤sse mit traumhaften Panoramen erreichen Sie wieder Lermoos. \n  \n4. Tag:Â  Freizeit \nDieser Tag steht Ihnen zur freien VerfÃ¼gung. In wenigen Minuten ist die Talstation der Grubigsteinbahnen erreicht. Per Seilbahn oder auf einem der zahlreichen Wanderwege kÃ¶nnen Sie den Grubigstein erklimmen. Unweit des Hotels befindet sich der Lermooser Lusspark. Er lÃ¤dt zum Spazieren und Erholen ein. Mit Ihrer Kurkarte kÃ¶nnen Sie den GÃ¤stebus bis nach Garmisch kostenfrei nutzen. Damit kÃ¶nnen Sie z.B. nach Ehrwald fahren\, um dort mit der Bahn die Zugspitze hinaufzufahren (exkl.). Hier bieten sich Ihnen faszinierende Aussichten und ein reichhaltiges Angebot an Speisen und GetrÃ¤nken. \n  \n5. Tag:Â  Rund um den Wetterstein \nHeute steht nochmal eine herrliche Panoramarundfahrt mit Ihrem Reiseleiter auf dem Programm. Ãœber das Mieminger Plateau erreichen Sie Seefeld mit Freizeit zum Stadtbummel. Weiterfahrt nach Mittenwald und Garmisch mit Abstecher zur groÃŸen Olympia-Skisprungschanze. RÃ¼ckkunft in Lermoos am Abend. \nÂ  \n6. Tag:Â  Ã–tztal &#8211; KÃ¼htai  \nMit Ihrem Reiseleiter beginnt die Fahrt Ã¼ber den Fernpass nach Ã–tz. Vorbei am Ã–tzi-Dorf erreichen Sie den hÃ¶chsten Wasserfall Tirols\, den Stuibenfall in Umhausen. Mittagspause in KÃ¼htai\, hÃ¶chste Skigemeinde Ã–sterreichs auf 2.020 m HÃ¶he. Durch das Sellraintal und Ã¼ber den Fernpass erreichen Sie wieder Lermoos. \n  \n7. Tag:Â  RÃ¼ckreise \nHeute nehmen Sie Abschied von Lermoos und der Urlaubsregion Zugspitze. Ihre RÃ¼ckreise beginnt. \n  \nReise wird in Zusammenarbeit mit unserer Partnerfirma durchgefÃ¼hrt. \n 
URL:https://fichtenkamm.de/reise/lermoos-schloss-linderhof/
CATEGORIES:Genuss- & Erlebnisreisen,Kurzreisen,Musikreisen
END:VEVENT
END:VCALENDAR