BEGIN:VCALENDAR
VERSION:2.0
PRODID:-//Fichtenkamm Reisen - ECPv5.12.3//NONSGML v1.0//EN
CALSCALE:GREGORIAN
METHOD:PUBLISH
X-WR-CALNAME:Fichtenkamm Reisen
X-ORIGINAL-URL:https://fichtenkamm.de
X-WR-CALDESC:Veranstaltungen fÃ¼r Fichtenkamm Reisen
BEGIN:VTIMEZONE
TZID:Europe/Berlin
BEGIN:DAYLIGHT
TZOFFSETFROM:+0100
TZOFFSETTO:+0200
TZNAME:CEST
DTSTART:20250330T010000
END:DAYLIGHT
BEGIN:STANDARD
TZOFFSETFROM:+0200
TZOFFSETTO:+0100
TZNAME:CET
DTSTART:20251026T010000
END:STANDARD
END:VTIMEZONE
BEGIN:VEVENT
DTSTART;VALUE=DATE:20250905
DTEND;VALUE=DATE:20250909
DTSTAMP:20260421T203414
CREATED:20250514T164918Z
LAST-MODIFIED:20250514T164918Z
UID:15849-1757030400-1757375999@fichtenkamm.de
SUMMARY:Leipzig & das Gewandhaus entdecken
DESCRIPTION:Leipzig ist eine Stadt im Wandel der Zeit! Hier finden Sie die Stile aller Epochen\, Spuren einer bewegten Vergangenheit und Zeugen des rasanten Fortschritts und der technischen Entwicklung\, welche die Stadt seit der Wiedervereinigung erfÃ¤hrt! Das pulsierende Leben\, eine innovative kulturelle Entwicklung und eine vielseitige Szene\, sei es Kunst oder Musik\, Theater oder Nachtleben! Aber nicht nur Kulturliebhaber kommen auf ihre Kosten. Leipzigs charmante Passagen und belebte PlÃ¤tze laden zum Bummeln und GenieÃŸen der kulinarischen KÃ¶stlichkeiten ein. Ein Paradies fÃ¼r Kultur- und Genussreisende! \n  \n 1. Tag: Anreise \nSie erreichen Leipzig im Laufe des Nachmittags. Ihr 4*Hotel\, im Zentrum am Augustusplatz\, stellt die beste Ausgangslage fÃ¼r Ihre AktivitÃ¤ten dar. Nach dem Zimmerbezug erwartet Sie Ihre Reiseleitung zum gefÃ¼hrten Rundgang. Sie lernen die wichtigsten SehenswÃ¼rdigkeiten wie den beeindruckenden Augustusplatz\, das kulturelle Zentrum der Stadt\, umgeben von der Oper\, dem Gewandhaus und der UniversitÃ¤t kennen. Oder die Thomaskirche\, in der Johann Sebastian Bach als Kontor wirkte. Ein Highlight der Tour ist der Marktplatz mit dem Alten Rathaus\, einem der schÃ¶nsten RenaissancegebÃ¤ude Deutschlands\, sowie die durch die friedliche Revolution berÃ¼hmte Nicolaikirche. Als Abschluss dieser ausgezeichneten Besichtigung erwartet man Sie im historischen Auerbachs Keller zum Abendessen. \n  \n 2. Tag:Â  Leipzig &#8211; Stadtrundfahrt \nHeute entdecken Sie Leipzig mit dem Bus. Einige spannende Stationen erwarten Sie auf dieser Tour\, wie der Zoo Leipzig\, einem der modernsten Zoos Deutschlands. Weiter geht es zum barocken Gohliser SchlÃ¶sschen und zum Schillerhaus\, dem Ã¤ltesten Bauernhaus Leipzigs. Im WaldstraÃŸenviertel bewundern Sie prÃ¤chtige GrÃ¼nderzeitbauten\, bevor Sie das imposante Neue Rathaus und das historische Reichsgericht bewundern. Am Bayerischen Bahnhof erleben Sie ein StÃ¼ck Eisenbahngeschichte\, gefolgt von der Russischen GedÃ¤chtniskirche als Mahnmal der VÃ¶lkerschlacht. Das beeindruckende VÃ¶lkerschlachtdenkmal\, das nicht nur Geschichte erzÃ¤hlt\, sondern auch eine fantastische Aussicht Ã¼ber Leipzig bietet\, darf hier nicht fehlen. Im Anschluss kosten Sie in einem der Ã¤ltesten Restaurants der Stadt Leipziger Lerche und 1 Gosebier. \nÂ  \n 3. Tag:Â Â  Bootsfahrt &#8211; Gewandhaus\n \nHeute erwartet Sie ein besonderes Highlight! Besuchen Sie heute die ErÃ¶ffnung der 245. Saison des Gewandhausorchesters im GroÃŸen Saal des weltberÃ¼hmten Konzerthauses und erleben Sie Werke von AntonÃ­n DvorÃ¡k und Dimitri Schostakowitsch. Am Nachmittag erleben Sie dann Leipzigs idyllische Seite bei einer Bootsfahrt durch die malerischen KanÃ¤le im Stadtteil Plagwitz\, auch bekannt als Klein Venedig. \n  \n4. Tag:Â  RÃ¼ckreise \nLeider heiÃŸt es heute nach dem FrÃ¼hstÃ¼ck leider schon wieder Abschied nehmen von Leipzig. Mit schÃ¶nen Erinnerungen treten Sie die Heimreise an. \n  \nReise wird in Zusammenarbeit mit unserer Partnerfirma durchgefÃ¼hrt. \n 
URL:https://fichtenkamm.de/reise/leipzig-das-gewandhaus-entdecken/
CATEGORIES:Genuss- & Erlebnisreisen,Musikreisen,StÃ¤dtereisen
ATTACH;FMTTYPE=image/jpeg:https://fichtenkamm.de/wp-content/uploads/2022/02/3AdobeStock_288121620_Leipzig-Rathaus-Marktplatz.jpg
END:VEVENT
END:VCALENDAR