BEGIN:VCALENDAR
VERSION:2.0
PRODID:-//Fichtenkamm Reisen - ECPv5.12.3//NONSGML v1.0//EN
CALSCALE:GREGORIAN
METHOD:PUBLISH
X-WR-CALNAME:Fichtenkamm Reisen
X-ORIGINAL-URL:https://fichtenkamm.de
X-WR-CALDESC:Veranstaltungen für Fichtenkamm Reisen
BEGIN:VTIMEZONE
TZID:Europe/Berlin
BEGIN:DAYLIGHT
TZOFFSETFROM:+0100
TZOFFSETTO:+0200
TZNAME:CEST
DTSTART:20220327T010000
END:DAYLIGHT
BEGIN:STANDARD
TZOFFSETFROM:+0200
TZOFFSETTO:+0100
TZNAME:CET
DTSTART:20221030T010000
END:STANDARD
END:VTIMEZONE
BEGIN:VEVENT
DTSTART;VALUE=DATE:20220804
DTEND;VALUE=DATE:20220805
DTSTAMP:20260424T013603
CREATED:20220615T153155Z
LAST-MODIFIED:20220615T153155Z
UID:13390-1659571200-1659657599@fichtenkamm.de
SUMMARY:Landesgartenschau
DESCRIPTION:Ein buntes Blumenmeer\, unvergessliche Veranstaltungen\, inspirierende Ausstellungsbeiträge und vieles mehr. All das gehört zu der Landesgartenschau in Neuenburg am Rhein. Ein eindrucksvoller Tag erwartet Sie.
URL:https://fichtenkamm.de/reise/landesgartenschau-2/
CATEGORIES:Tagesreisen
END:VEVENT
END:VCALENDAR