BEGIN:VCALENDAR
VERSION:2.0
PRODID:-//Fichtenkamm Reisen - ECPv5.12.3//NONSGML v1.0//EN
CALSCALE:GREGORIAN
METHOD:PUBLISH
X-WR-CALNAME:Fichtenkamm Reisen
X-ORIGINAL-URL:https://fichtenkamm.de
X-WR-CALDESC:Veranstaltungen fÃ¼r Fichtenkamm Reisen
BEGIN:VTIMEZONE
TZID:Europe/Berlin
BEGIN:DAYLIGHT
TZOFFSETFROM:+0100
TZOFFSETTO:+0200
TZNAME:CEST
DTSTART:20240331T010000
END:DAYLIGHT
BEGIN:STANDARD
TZOFFSETFROM:+0200
TZOFFSETTO:+0100
TZNAME:CET
DTSTART:20241027T010000
END:STANDARD
END:VTIMEZONE
BEGIN:VEVENT
DTSTART;VALUE=DATE:20241007
DTEND;VALUE=DATE:20241014
DTSTAMP:20260420T013911
CREATED:20240119T180149Z
LAST-MODIFIED:20240216T152254Z
UID:14322-1728259200-1728863999@fichtenkamm.de
SUMMARY:Insel RÃ¼gen - Perle der Ostsee
DESCRIPTION:Lassen Sie sich verzaubern von den leuchtenden Farben des wogenden Meeres\, den Ã¼ppigen und urwÃ¼chsigen BuchenwÃ¤ldern\, den kilometerlangen SandstrÃ¤nden\, stilvollen Badeorten und idyllischen DÃ¶rfern. Zu den bekanntesten Zielen zÃ¤hlen die berÃ¼hmten Kreidefelsen\, die schon den Maler Caspar David Friedrich bezauberten. Sie gehÃ¶ren zum Nationalpark Jasmund\, der im Nordwesten der Insel nÃ¶rdlich der Hafenstadt Sassnitz liegt. RÃ¼gen ist wahrhaftig ein Urlaubsparadies zu jeder Jahreszeit.  \nÂ  \n1. Tag: Anreise nach RÃ¼gen \nAnreise Ã¼ber Frankfurt â€“ Hamburg â€“ Rostock &#8211; Stralsund zur Insel RÃ¼gen. In Binz angekommen\, beziehen Sie Ihr schÃ¶nes Hotel an der Strandpromenade. \n  \n2. Tag:Â  Inselrundfahrt \nBegleiten Sie uns zu einer gefÃ¼hrten Inselrundfahrt. Diese Fahrt ist wahrhaftig ein Leckerbissen fÃ¼r alle Naturliebhaber! Hierbei werden Sie vom FÃ¤hrhafen Mukran Ã¼ber die Hafenstadt Sassnitz\, entlang der â€žStubbenkammerâ€œ bis zum sagenumwobenen KÃ¶nigsstuhl und dem nÃ¶rdlichsten Punkt der Insel\, das Kap Arkona\, wirklich alles\, was die Insel so berÃ¼hmt macht\, entdecken. \n  \n3. Tag:Â  Erholung \nNach einem ausgiebigen FrÃ¼hstÃ¼ck kÃ¶nnen Sie den Tag am Meer genieÃŸen. Die einzigartige AtmosphÃ¤re des grÃ¶ÃŸten Seebades der Insel lÃ¤dt zum gemÃ¼tlichen Bummel entlang der Promenade ein. \n  \n4. Tag:Â  Hiddensee\n \nHeute erwartet Sie auf Wunsch die â€œStille Inselâ€œ Hiddensee! Wie ein groÃŸer Wall ist sie der groÃŸen Schwester RÃ¼gen vorgelagert. Fern ab vom lauten Alltag erleben Sie die fast unberÃ¼hrte Landschaft mit schÃ¶nen SandstrÃ¤nden und hÃ¼bschen DÃ¶rfern. Mit dem FÃ¤hrschiff erreichen Sie die Insel Hiddensee\, die zu jeder Jahreszeit ein unvergessliches Erlebnis ist. \n  \n5. Tag:Â  Stralsund\n \nBegleiten Sie uns heute nach Stralsund. Bei einem gefÃ¼hrten Stadtrundgang werden Sie die charmante\, als UNESCO-Welterbe anerkannte\, Hansestadt mit ihren imposanten Bauten kennenlernen. Danach steht Ihnen noch Zeit zur freien VerfÃ¼gung\, bevor es wieder zurÃ¼ckgeht zum Hotel. \n  \n6. Tag:Â  Erholung \nHeute kÃ¶nnen Sie den Tag planen\, wie Sie mÃ¶chtenâ€¦.Strandspaziergang\, bummeln\, Seele baumeln lassen. Sich einfach mal eine Auszeit gÃ¶nnen. \n  \n7. Tag:Â  RÃ¼ckreise \nNach erlebnisreichen Urlaubstagen heiÃŸt es leider Abschied nehmen.
URL:https://fichtenkamm.de/reise/insel-ruegen-perle-der-ostsee/
CATEGORIES:Genuss- & Erlebnisreisen,Urlaubsreisen
ATTACH;FMTTYPE=image/jpeg:https://fichtenkamm.de/wp-content/uploads/2021/09/3Fotolia_33210012_M_Kreidekueste.jpg
END:VEVENT
END:VCALENDAR