BEGIN:VCALENDAR
VERSION:2.0
PRODID:-//Fichtenkamm Reisen - ECPv5.12.3//NONSGML v1.0//EN
CALSCALE:GREGORIAN
METHOD:PUBLISH
X-WR-CALNAME:Fichtenkamm Reisen
X-ORIGINAL-URL:https://fichtenkamm.de
X-WR-CALDESC:Veranstaltungen fÃ¼r Fichtenkamm Reisen
BEGIN:VTIMEZONE
TZID:Europe/Berlin
BEGIN:DAYLIGHT
TZOFFSETFROM:+0100
TZOFFSETTO:+0200
TZNAME:CEST
DTSTART:20220327T010000
END:DAYLIGHT
BEGIN:STANDARD
TZOFFSETFROM:+0200
TZOFFSETTO:+0100
TZNAME:CET
DTSTART:20221030T010000
END:STANDARD
END:VTIMEZONE
BEGIN:VEVENT
DTSTART;VALUE=DATE:20220803
DTEND;VALUE=DATE:20220808
DTSTAMP:20260424T013639
CREATED:20220204T173954Z
LAST-MODIFIED:20220224T101403Z
UID:12443-1659484800-1659916799@fichtenkamm.de
SUMMARY:Idyllisches AltmÃ¼hltal
DESCRIPTION:Eine wahre Bilderbuchlandschaft erwartet Sie im schÃ¶nen AltmÃ¼hltal im Herzen Bayerns. Da windet sich die AltÂ­Â­Â­Â­mÃ¼hl in unendlichen Schleifen und BÃ¶gen durch breite TÃ¤ler\, vorbei an bizarren FelswÃ¤nden\, durch blÃ¼hende Wiesen mit weidenden Schafen und goldgelben Rapsfeldern. Auch die Ã¤lÂ­tesÂ­Â­te Stadt Deutschlands\, Regensburg\, werden wir besuchen. GenieÃŸen Sie hier italienisches Flair in einer Stadt an der Donau\, die alt und neu zugleich verbindet. In Kelheim\, der â€žStadt am Flussâ€œ\, gibt es Geschichte zu entdecken: meisterliche Bauwerke im Stil des Barock\, die Befreiungshalle hoch Ã¼ber der Stadt oder am Donauufer das Kloster Weltenburg. Bei dieser Fahrt gibt es vieles zu bestaunen.  \nTag 1:Â  Anreise Gunzenhausen \nAnreise Ã¼ber Heilbronn nach Rothenburg ob der Tauber. Hier erwartet Sie ein kurzweiliger Stadtrundgang durch die weltberÃ¼hmte Altstadt mit den hÃ¼bschen GÃ¤sschen. Am spÃ¤ten Nachmittag Weiterfahrt zu IhÂ­Â­Â­Â­Â­rem schÃ¶nen Hotel. \n  \nTag 2:Â  Rundfahrt AltmÃ¼hltal \nHeute laden wir Sie zu einer gefÃ¼hrten Rundfahrt durch das schÃ¶ne AltmÃ¼hltal ein. Es geht entlang des Donaukanals &#8211; Beilngries &#8211; Dietfurt mit kleinem Rundgang in Kelheim\, sowie Gelegenheit zur Besichtigung der Befreiungskapelle. Danach geht es mit dem Schiff weiter zur engsten Stelle der Donau\, zum einmaligen Naturschauspiel des bekannten Donaudurchbruchs. Weiterfahrt zum Kloster Weltenburg\, wo eine Mittagspause eingelegt werden kann. \n  \nTag 3:Â  Ausflug EichstÃ¤dt\n \nHeute erwartet Sie ein Ausflug ins schÃ¶ne EichstÃ¤tt. Bei einem gefÃ¼hrten Rundgang lernen Sie den Mittelpunkt des Naturparks AltmÃ¼hltal die Barock-\, Bischofs- und UniversitÃ¤tsstadt EichstÃ¤tt kennen. Der Zusammenklang reprÃ¤sentativer Sakral- und Profanbauten\, groÃŸzÃ¼gige PlÃ¤tze\, verspielte Brunnen und vertrÃ¤umte Gassen laden zum Bummels\, Essen und Ausruhen ein.\n \n  \nTag 4:Â  Regensburg \nAm heutigen Tag steht ein Ausflug nach Regensburg auf Ihrem Programm. Bei einer schÃ¶nen AltstadtfÃ¼hrung lernen Sie die interessantesten SehenswÃ¼rdigkeiten des UNESCO Welterbes kennen. Nachmittags laden wir Sie zu einer schÃ¶nen Erlebnisrundfahrt mit dem Kristallschiff bis zur Walhalla und zurÃ¼ck ein. Lassen Sie sich von der Magie des Wassers verzaubern! NatÃ¼rlich bietet sich auch die Gelegenheit\, um die weltbekannte Ehren- und Ruhmeshalle des bayerischen KÃ¶nigs Ludwig I zu bestaunen. \n  \nTag 5:Â  RÃ¼ckreise \nLeider heiÃŸt es schon wieder AbÂ­Â­Â­Â­schied nehmen. Nach dem FrÃ¼hstÃ¼ck werden die Koffer verladen und anschlieÃŸend starten Sie zur Heimreise. In Deutschlands schÃ¶nster Altstadt DinkelsbÃ¼hl werden Sie noch ein Zwischenstopp einlegen\, bevor Sie wieder Ihren Ausgangsort erreichen werden. \n  \nmax. 35 Reiseteilnehmer
URL:https://fichtenkamm.de/reise/idyllisches-altmuehltal-4/
CATEGORIES:Genuss- & Erlebnisreisen
ATTACH;FMTTYPE=image/jpeg:https://fichtenkamm.de/wp-content/uploads/2022/02/3AdobeStock_323207474_Regensburg.jpg
END:VEVENT
END:VCALENDAR