BEGIN:VCALENDAR
VERSION:2.0
PRODID:-//Fichtenkamm Reisen - ECPv5.12.3//NONSGML v1.0//EN
CALSCALE:GREGORIAN
METHOD:PUBLISH
X-WR-CALNAME:Fichtenkamm Reisen
X-ORIGINAL-URL:https://fichtenkamm.de
X-WR-CALDESC:Veranstaltungen fÃ¼r Fichtenkamm Reisen
BEGIN:VTIMEZONE
TZID:Europe/Berlin
BEGIN:DAYLIGHT
TZOFFSETFROM:+0100
TZOFFSETTO:+0200
TZNAME:CEST
DTSTART:20250330T010000
END:DAYLIGHT
BEGIN:STANDARD
TZOFFSETFROM:+0200
TZOFFSETTO:+0100
TZNAME:CET
DTSTART:20251026T010000
END:STANDARD
END:VTIMEZONE
BEGIN:VEVENT
DTSTART;VALUE=DATE:20250911
DTEND;VALUE=DATE:20250917
DTSTAMP:20260422T005142
CREATED:20250515T125346Z
LAST-MODIFIED:20250515T142724Z
UID:15856-1757548800-1758067199@fichtenkamm.de
SUMMARY:HansestÃ¤dte entlang der Ijssel
DESCRIPTION:Die HansestÃ¤dte entlang der Ijssel versprechen eine Reise ganz im Zeichen der Hanse-Philosophie â€“ dem mittelalterlichen Handelsnetz\, welches Reichtum und Handelsgeist in die StÃ¤dte brachte und teils mÃ¤chtiger als KÃ¶nig und Kaiser war. Noch heute sind die Zeichen dieser goldenen Zeiten deutlich sichtbar. Begleiten Sie uns auf eine einmalige Reise in die malerischen StÃ¤dtchen und spÃ¼ren Sie den Geist vergangener Tage. \n  \n 1. Tag: Anreise \nDer Weg fÃ¼hrt Sie direkt nach Putten\, einer idyllischen Kleinstadt in der Provinz Gelderland direkt am Veluwemeer. Doch bevor Sie Ihr Hotel erreichen\, besuchen Sie das groÃŸe Freilichtmuseum in Arnheim\, welches Sie schon kurz nach dem GrenzÃ¼bertritt erwartet. Das wunderbar angelegte Museum besteht aus 80 GebÃ¤uden\, BauernhÃ¶fen und WindmÃ¼hlen und bietet einen Ãœberblick Ã¼ber das Leben in den Niederlanden in den vergangenen 350 Jahren. \n  \n 2. Tag:Â Â Auf den Spuren der Hanse &#8211; Ijssel \nNach dem FrÃ¼hstÃ¼ck starten Sie mit dem Besichtigungsprogramm auf den Spuren der Hanse. Zusammen mit Ihrer Reiseleitung besuchen Sie die HansestÃ¤dte Kampen\, Zwolle und Hattem. Jede auf ihre ganz eigene Art unvergleichlich! Ausgehend von LÃ¼beck bescherte die Mitgliedschaft in der Hanse den StÃ¤dten viele Privilegien â€“ denn mit dem Handel ging der Reichtum einher und ein goldenes Zeitalter brach an! Durch ihre Lage an der Ijssel hatten die drei StÃ¤dte einen perfekten Zugang zum Ijsselmeer und von dort in die Nordsee. \nÂ  \n 3. Tag:Â Â  Auf den Spuren der Hanse &#8211; Veluwemeer\n \nNachdem Sie bereits die drei charmanten StÃ¤dtchen an der Ijssel besucht haben\, lernen Sie heute mit Elburg und Harderwijk zwei wunderschÃ¶ne HansestÃ¤dte am Veluwemeer kennen. Von dieser idealen Lage waren Zuiderzee\, Nord- und Ostsee schnell erreicht. Die Altstadt von Elburg ist komplett von einem Kanal umgeben und im Yachthafen liegen noch heute zahlreiche Fischerboote. Harderwijk liegt direkt am Veluwemeeer und versprÃ¼ht noch heute echtes Seefahrerflair. Bei der gefÃ¼hrten Rundfahrt wird die Geschichte lebendig und Sie wandeln wie damals &#8222;Auf den Spuren der Hanse&#8220;. \n  \n 4. Tag:Â  Urk &#8211; Giethoorn\n \nFreuen Sie sich auf einen Tag voller wunderschÃ¶ner Panoramen. Sie starten von Putten in Richtung Urk\, einst eine Insel\, heute das kleinste und romantischste FischerdÃ¶rfchen der Niederlande. Danach geht es nach Giethoorn welches zu den schÃ¶nsten DÃ¶rfern des Landes zÃ¤hlt. Sie erkunden das autofreie Dorf im Rahmen einer Bootsfahrt auf den unzÃ¤hligen KanÃ¤len\, die das Dorf durchziehen und machen anschlieÃŸend eine Kaffeepause. Auf landschaftlich schÃ¶ner Strecke geht es via Blauwe Hand und Vollenhove wieder nach Putten. \n  \n 5. Tag:Â  Enkhuizen â€“ Zuiderzeemuseum \nÃœber den Mitteldeich erreichen Sie Ihr heutiges Ziel\, Enkhuizen\, direkt am Ijsselmeer gelegen. Die Stadt beherbergt das Zuiderzeemuseum. Hier kÃ¶nnen Sie auf eine Zeitreise durch die niederlÃ¤ndische Geschichte gehen\, die bei einem Stadtrundgang noch weiter vertieft wird. Enkhuizen vereint maritimen Charme\, Kultur und pittoreske SchÃ¶nheit zu einem unvergesslichen Reiseerlebnis. WÃ¤hrend der RÃ¼ckfahrt legen Sie noch einen Stopp in Batavia-Stad ein. \n  \n6. Tag:Â  RÃ¼ckreise \nZum Abschluss besuchen Sie Deventer. Die Stadt zÃ¤hlt zu den Ã¤ltesten StÃ¤dten der Niederlande. Zu Zeiten der Hanse waren Rotterdam und Amsterdam noch unbedeutende DÃ¶rfer\, doch die &#8222;HansestÃ¤dte an der Ijssel&#8220; standen in ihrer BlÃ¼tezeit. Eine einzigartige Reise neigt sich dem Ende zu. Beginn der RÃ¼ckreise. \n  \nReise wird in Zusammenarbeit mit unserer Partnerfirma durchgefÃ¼hrt. \n 
URL:https://fichtenkamm.de/reise/hansestaedte-entlang-der-ijssel/
CATEGORIES:Genuss- & Erlebnisreisen,StÃ¤dtereisen,Urlaubsreisen
ATTACH;FMTTYPE=image/jpeg:https://fichtenkamm.de/wp-content/uploads/2022/02/76Sea.jpg
END:VEVENT
END:VCALENDAR