BEGIN:VCALENDAR
VERSION:2.0
PRODID:-//Fichtenkamm Reisen - ECPv5.12.3//NONSGML v1.0//EN
CALSCALE:GREGORIAN
METHOD:PUBLISH
X-WR-CALNAME:Fichtenkamm Reisen
X-ORIGINAL-URL:https://fichtenkamm.de
X-WR-CALDESC:Veranstaltungen fÃ¼r Fichtenkamm Reisen
BEGIN:VTIMEZONE
TZID:Europe/Berlin
BEGIN:DAYLIGHT
TZOFFSETFROM:+0100
TZOFFSETTO:+0200
TZNAME:CEST
DTSTART:20250330T010000
END:DAYLIGHT
BEGIN:STANDARD
TZOFFSETFROM:+0200
TZOFFSETTO:+0100
TZNAME:CET
DTSTART:20251026T010000
END:STANDARD
END:VTIMEZONE
BEGIN:VEVENT
DTSTART;VALUE=DATE:20250927
DTEND;VALUE=DATE:20250928
DTSTAMP:20260422T060218
CREATED:20250206T143027Z
LAST-MODIFIED:20250206T143027Z
UID:15388-1758931200-1759017599@fichtenkamm.de
SUMMARY:Gartenschau 2025
DESCRIPTION:Das GartenschaugelÃ¤nde erstreckt sich von Freudenstadt nach Baiersbronn und verbindet die landschaftlich traumhaften Orte. Das Tal X wird zu einem wahren Paradies fÃ¼r Blumenliebhaber und HobbygÃ¤rtner. \n  \n 
URL:https://fichtenkamm.de/reise/gartenschau-2025-3/
CATEGORIES:Tagesreisen
END:VEVENT
END:VCALENDAR