BEGIN:VCALENDAR
VERSION:2.0
PRODID:-//Fichtenkamm Reisen - ECPv5.12.3//NONSGML v1.0//EN
CALSCALE:GREGORIAN
METHOD:PUBLISH
X-WR-CALNAME:Fichtenkamm Reisen
X-ORIGINAL-URL:https://fichtenkamm.de
X-WR-CALDESC:Veranstaltungen fÃ¼r Fichtenkamm Reisen
BEGIN:VTIMEZONE
TZID:Europe/Berlin
BEGIN:DAYLIGHT
TZOFFSETFROM:+0100
TZOFFSETTO:+0200
TZNAME:CEST
DTSTART:20250330T010000
END:DAYLIGHT
BEGIN:STANDARD
TZOFFSETFROM:+0200
TZOFFSETTO:+0100
TZNAME:CET
DTSTART:20251026T010000
END:STANDARD
BEGIN:DAYLIGHT
TZOFFSETFROM:+0100
TZOFFSETTO:+0200
TZNAME:CEST
DTSTART:20260329T010000
END:DAYLIGHT
BEGIN:STANDARD
TZOFFSETFROM:+0200
TZOFFSETTO:+0100
TZNAME:CET
DTSTART:20261025T010000
END:STANDARD
END:VTIMEZONE
BEGIN:VEVENT
DTSTART;VALUE=DATE:20251230
DTEND;VALUE=DATE:20260103
DTSTAMP:20260422T022941
CREATED:20250902T082554Z
LAST-MODIFIED:20251009T143440Z
UID:16081-1767052800-1767398399@fichtenkamm.de
SUMMARY:FÃ¼rstliche Silvestertage & Neujahrskonzert
DESCRIPTION:Freuen Sie sich auf einen unvergesslichen Jahreswechsel in der Bauhausstadt Dessau und entdecken Sie die vielfÃ¤ltigen historischen Highlights der Region! Verbringen Sie erlebnisreiche Tage im stilvollen Radisson Blu Hotel FÃ¼rst Leopold. Lassen Sie sich von einer festlichen Silvesterfeier begeistern und unternehmen Sie spannende AusflÃ¼ge in die charmante Lutherstadt Wittenberg\, sowie nach Magdeburg\, um noch mehr von der kulturellen Vielfalt der Region zu erleben. Ein besonderes Highlight erwartet Sie am Neujahrstag: das festliche Neujahrskonzert im renommierten Anhaltischen Staatstheater\, das den Start ins neue Jahr musikalisch wunderbar einlÃ¤utet. \nÂ  \n 1. Tag:Â Â  Anreise  \nAm frÃ¼hen Morgen startet Ihre Reise nach Dessau. Nach Ihrer Ankunft beziehen Sie Ihr komfortables Zimmer im eleganten Radisson Blu Hotel FÃ¼rst Leopold. Nutzen Sie den restlichen Tag\, um die charmante Stadt zu erkunden\, ihre SehenswÃ¼rdigkeiten zu entdecken. Am Abend erwartet Sie ein gemÃ¼tliches gemeinsames Abendessen im stilvollen Hotelrestaurant. \n  \n 2. Tag: Â  Lutherstadt Wittenberg â€“Magdeburg &#8211; Silvesterfeier \nNach einem gemÃ¼tlichen FrÃ¼hstÃ¼ck erkunden Sie die historische Altstadt von Wittenberg mit der berÃ¼hmten Schlosskirche und ThesentÃ¼r\, die Martin Luther prÃ¤gten. Danach fahren Sie nach Magdeburg\, die lebendige Hauptstadt Sachsen-Anhalts. Am Nachmittag kehren Sie entspannt nach Dessau zurÃ¼ck\, um sich auf den festlichen Silvesterabend vorzubereiten und das Jahresende in angenehmer AtmosphÃ¤re zu genieÃŸen. \n  \n 3. Tag:Â  Neujahr mit Stadtrundfahrt und Neujahrskonzert \nNach einem ausgiebigen NeujahrsfrÃ¼hstÃ¼ck starten Sie entspannt ins neue Jahr. Gegen Mittag erkunden Sie bei einer Bauhausbauten-Rundfahrt die modernen Meisterwerke in Dessau\, darunter das von Gropius entworfene Arbeitsamt\, die Siedlung TÃ¶rten und das Kornhaus. Nach der Tour kehren Sie zum Kaffee und Kuchen ins Hotel zurÃ¼ck. Am Abend genieÃŸen Sie das festliche Neujahrskonzert im nahegelegenen Anhaltischen Staatstheater. SpÃ¤ter klingt der Tag bei einem spÃ¤ten Abendessen im Hotel aus. \n  \n  \n 4. Tag: RÃ¼ckreise \nNach einem genussvollen letzten FrÃ¼hstÃ¼ck im Hotel machen Sie sich auf den Weg zurÃ¼ck\, um Ihre Heimreise anzutreten. \n 
URL:https://fichtenkamm.de/reise/fuerstliche-silvestertage-neujahrskonzert/
CATEGORIES:Winter- & Silvesterreisen
ATTACH;FMTTYPE=image/jpeg:https://fichtenkamm.de/wp-content/uploads/2025/07/3AdobeStock_236794201.jpg
END:VEVENT
END:VCALENDAR