BEGIN:VCALENDAR
VERSION:2.0
PRODID:-//Fichtenkamm Reisen - ECPv5.12.3//NONSGML v1.0//EN
CALSCALE:GREGORIAN
METHOD:PUBLISH
X-WR-CALNAME:Fichtenkamm Reisen
X-ORIGINAL-URL:https://fichtenkamm.de
X-WR-CALDESC:Veranstaltungen fÃ¼r Fichtenkamm Reisen
BEGIN:VTIMEZONE
TZID:Europe/Berlin
BEGIN:DAYLIGHT
TZOFFSETFROM:+0100
TZOFFSETTO:+0200
TZNAME:CEST
DTSTART:20230326T010000
END:DAYLIGHT
BEGIN:STANDARD
TZOFFSETFROM:+0200
TZOFFSETTO:+0100
TZNAME:CET
DTSTART:20231029T010000
END:STANDARD
END:VTIMEZONE
BEGIN:VEVENT
DTSTART;VALUE=DATE:20230406
DTEND;VALUE=DATE:20230411
DTSTAMP:20260423T175206
CREATED:20230117T152513Z
LAST-MODIFIED:20230213T170009Z
UID:13495-1680739200-1681171199@fichtenkamm.de
SUMMARY:FrÃ¼hlingserwachen zu Ostern
DESCRIPTION:Feiern Sie mit uns die Osterfeiertage im schÃ¶nen Tirol. Mit lauer FrÃ¼hlingsluft und lichtblauem Himmel ist der FrÃ¼hling eine besonders schÃ¶ne Zeit hier in Ã–sterreich. Wenn auf den Bergen der Schnee in der Sonne glitzert\, die Luft von Vogelgezwitscher erfÃ¼llt ist und die ersten Blumen ihre bunten KÃ¶pfe Richtung Sonne strecken\, steht das Osterfest vor der TÃ¼r. Natur\, Tradition und alte OsterbrÃ¤uche gehÃ¶ren ebenso zum Osterurlaub in Tirol\, wie bunte Ostereier und Blumenschmuck! \n  \n 1. Tag:Â  Anreise \nAnreise Ã¼ber MÃ¼nchen â€“ Rosenheim â€“ Kufstein nach Niederau zu Ihrem schÃ¶nen ***Superior-Hotel. Nach dem Check-In heiÃŸt man Sie vor dem Abendessen mit einem BegrÃ¼ÃŸungsgetrÃ¤nk herzlich willkommen. \n  \n 2. Tag:Â  Kufstein \nHeute besuchen Sie das mittelalterliche Kufstein\, die vielbesungene &#8222;Perle Tirols&#8220; mit ihrer mÃ¤chtigen Festung aus dem 13. Jhdt. Nach der Auffahrt mit dem Panoramalift erwartet Sie hier eine wunderbare Aussicht. Ein Besuch des Kufsteiner Ostermarkt wird Sie mit kulinarischen KÃ¶stlichkeiten\, regionalen Produkten und traditioneller Handwerkskunst erfreuen. Danach geht es weiter nach KitzbÃ¼hel\, wo Sie durch die entzÃ¼ckende FuÃŸgÃ¤ngerzone bummeln und das historische Stadtbild der Altstadt mit ihren bemalten HÃ¤user-Fassaden bestaunen kÃ¶nnen. \n  \n 3. Tag:Â  Zell am See \nHeute mÃ¶chten wir Sie zu einer Fahrt nach Zell am See einladen. Die Stadt liegt malerisch am FuÃŸe der SchmittenhÃ¶he und am Ufer des Zeller Sees in unmittelbarer NÃ¤he zum Gletscher Kitzsteinhorn. GenieÃŸen Sie etwas Freizeit fÃ¼r einen Bummel durch die Stadt\, die zum Shopping lockt oder entspannen Sie bei einem gemÃ¼tlichen Spaziergang am Ufer. Danach laden wir Sie zu einer schÃ¶nen Panoramarundfahrt auf dem See ein. Â GenieÃŸen Sie dabei die herrliche Aussicht auf die umliegende Bergwelt. \n  \n 4. Tag:Â  Innsbruck \nFreuen Sie sich auf eine schÃ¶ne Fahrt nach Innsbruck. Quer durch die Innenstadt strahlen Ã¼berdimensionale Ostereier verziert mit unterschiedlichen Motiven mit der FrÃ¼hjahrssonne um die Wette und versetzen die Alpenstadt in ein besonders Ã¶sterliches Flair. Bei einer StadtfÃ¼hrung erfahren Sie Wissenswertes Ã¼ber die SehenswÃ¼rdigkeiten und die Historie der Stadt. Sie haben auch die MÃ¶glichkeit Ã¼ber den traditionellen Ostermarkt zu flanieren. Lassen Sie den Trubel der Stadt hinter sich und fahren Sie mit der Nordkettenbahn ins hochalpine GelÃ¤nde. Die EindrÃ¼cke hoch Ã¼ber Innsbruck werden zum einzigartigen Erlebnis. \n  \n 5. Tag:Â  RÃ¼ckreise \nLeider heiÃŸt es heute wieder Abschied nehmen von Ihrem schÃ¶nen Urlaubsort.
URL:https://fichtenkamm.de/reise/fruehlingserwachen-zu-ostern/
CATEGORIES:Genuss- & Erlebnisreisen,Hervorgehobene Reisen
END:VEVENT
END:VCALENDAR