BEGIN:VCALENDAR
VERSION:2.0
PRODID:-//Fichtenkamm Reisen - ECPv5.12.3//NONSGML v1.0//EN
CALSCALE:GREGORIAN
METHOD:PUBLISH
X-WR-CALNAME:Fichtenkamm Reisen
X-ORIGINAL-URL:https://fichtenkamm.de
X-WR-CALDESC:Veranstaltungen fÃ¼r Fichtenkamm Reisen
BEGIN:VTIMEZONE
TZID:Europe/Berlin
BEGIN:DAYLIGHT
TZOFFSETFROM:+0100
TZOFFSETTO:+0200
TZNAME:CEST
DTSTART:20230326T010000
END:DAYLIGHT
BEGIN:STANDARD
TZOFFSETFROM:+0200
TZOFFSETTO:+0100
TZNAME:CET
DTSTART:20231029T010000
END:STANDARD
END:VTIMEZONE
BEGIN:VEVENT
DTSTART;VALUE=DATE:20230705
DTEND;VALUE=DATE:20230710
DTSTAMP:20260423T131124
CREATED:20230117T161554Z
LAST-MODIFIED:20230214T101609Z
UID:13589-1688515200-1688947199@fichtenkamm.de
SUMMARY:FilmschauplÃ¤tze am Wilden Kaiser
DESCRIPTION:Begleiten Sie uns in das beliebte Urlaubgebiet der KitzbÃ¼heler Alpen. Die Region rund um den Wilden Kaiser ist bekannt dafÃ¼r als Kulisse fÃ¼r viele der erfolgreichsten deutschsprachigen Fernsehserien verwendet zu werden. Filmproduktionen wie &#8222;Ruf der Berge&#8220;\, &#8222;Die HÃ¼ttenwirtin&#8220; und besonders &#8222;Der Bergdoktor&#8220; erzÃ¤hlen von der SchÃ¶nheit der Orte um das mÃ¤chtige Bergmassiv. Ãœberall finden sich PlÃ¤tze\, die zur Kulisse werden &#8211; die urige &#8222;RÃ¼bezahl-Alm&#8220; auf dem Hartkaiser oder traditionelle BauernhÃ¶fe wie der â€žGruberhofâ€œ in SÃ¶ll. Freuen Sie sich auf eine Reise zu den malerischen Drehorten! \nÂ  \n 1. Tag: Anreise \nAnreise Ã¼ber MÃ¼nchen â€“ Kufstein zu Ihrem ***Hotel Neuwirt in Tirol. \n  \n 2. Tag: Going & Ellmau  \nHeute erkunden Sie Ihrer Reiseleitung die SchauplÃ¤tze der Fernsehserien in der Region. In Ellmau geht es mit der Hartkaiserbahn auf Ã¼ber 1.500 m SeehÃ¶he. GenieÃŸen Sie das atemberaubende Panorama der umliegenden Berge. Als HÃ¶hepunkt darf natÃ¼rlich die Besichtigung der Praxis des Bergdoktors nicht fehlen. \n  \n 3. Tag: Gruberhof & Kaiserrundfahrt  \nDer nÃ¤chste Filmschauplatz steht auf dem Programm. Im Traktorwagen geht es zum bekannten â€žGruberhofâ€œ. Der auf der Sonnseite des SÃ¶ller Brombergs auf rund 1.200m SeehÃ¶he gelegene Gasthof ist im Film der elterliche Bergbauernhof und das Wohnhaus des Bergdoktors. Nachdem Sie den einzigartigen Ausblick auf das Kaisergebirge genossen haben\, geht es wieder zurÃ¼ck Ã¼ber Kufstein und den Walchsee bis nach St. Johann in Tirol. \n  \n 4. Tag: SchaukÃ¤serei & KitzbÃ¼hel  \nHeute fahren Sie nach Kirchdorf\, wo man Sie in der SchaukÃ¤serei &#8222;Wilder KÃ¤serâ€œ willkommen heiÃŸt. Erfahren Sie wie typischen KÃ¤se entstehen und riechen. NatÃ¼rlich darf hier eine herzhafte Verkostung nicht fehlen. Danach geht es nach KitzbÃ¼hel\, den Wohnsitz vieler BerÃ¼hmtheiten und den Heimatort von Hansi Hinterseer. Bummeln Sie durch die entzÃ¼ckende FuÃŸgÃ¤ngerzone und bestaunen Sie das historische Stadtbild der Altstadt. AnschlieÃŸend steht noch ein Abstecher zum Wildpark Aurach auf dem Programm. \n  \n 5. Tag: RÃ¼ckreise \nMit schÃ¶nen Erinnerungen treten Sie nach dem FrÃ¼hstÃ¼ck die Heimreise zu Ihren Ausgangsorten an. \n 
URL:https://fichtenkamm.de/reise/filmschauplaetze-am-wilden-kaiser/
CATEGORIES:Genuss- & Erlebnisreisen
ATTACH;FMTTYPE=image/jpeg:https://fichtenkamm.de/wp-content/uploads/2022/02/3AdobeStock_105213607_WilderKaiser_Anpassung.jpg
END:VEVENT
END:VCALENDAR