BEGIN:VCALENDAR
VERSION:2.0
PRODID:-//Fichtenkamm Reisen - ECPv5.12.3//NONSGML v1.0//EN
CALSCALE:GREGORIAN
METHOD:PUBLISH
X-WR-CALNAME:Fichtenkamm Reisen
X-ORIGINAL-URL:https://fichtenkamm.de
X-WR-CALDESC:Veranstaltungen fÃ¼r Fichtenkamm Reisen
BEGIN:VTIMEZONE
TZID:Europe/Berlin
BEGIN:DAYLIGHT
TZOFFSETFROM:+0100
TZOFFSETTO:+0200
TZNAME:CEST
DTSTART:20240331T010000
END:DAYLIGHT
BEGIN:STANDARD
TZOFFSETFROM:+0200
TZOFFSETTO:+0100
TZNAME:CET
DTSTART:20241027T010000
END:STANDARD
END:VTIMEZONE
BEGIN:VEVENT
DTSTART;VALUE=DATE:20241102
DTEND;VALUE=DATE:20241105
DTSTAMP:20260422T181143
CREATED:20240605T151854Z
LAST-MODIFIED:20240605T151854Z
UID:15119-1730505600-1730764799@fichtenkamm.de
SUMMARY:Festliches Benefitzkonzert in Hannover
DESCRIPTION:Im Jahr 1988 begann der damalige BundesprÃ¤sident Richard von WeizÃ¤cker\, jÃ¤hrlich in Berlin ein sogen. â€žBenefizkonzert des BundesprÃ¤sidentenâ€œ auszurichten. Der ErlÃ¶s dieser Konzerte ging an soziale oder kulturelle Projekte. \nIn diesem Jahr lÃ¤dt der BundesprÃ¤sident zum Benefizkonzert in den Kuppelsaal in Hannover ein\, der als einer der schÃ¶nsten FestsÃ¤le Europas gilt und ein besonderes Ambiente fÃ¼r herausragende Konzerte bietet. Der ErlÃ¶s ist zugunsten von Projekten zur PrÃ¤vention von Einsamkeit im Alter. \nSeien Sie beim Benefizkonzert in der Landhauptstadt Hannover mit dabei. Die NDR Radiophilharmonie spielt unter der Leitung von Chefdirigent Stanislav Kochanovsky ein spannungsreiches und zugleich ans Herz gehendes romantisches Programm. Zu den Solisten zÃ¤hlt der Bariton Christian Gerhaher\, eine der fÃ¼hrenden SÃ¤ngerpersÃ¶nlichkeiten unserer Zeit. Seine ausdrucksintensiven Liedinterpretationen gelten als einzigartig. \n  \nAlle KonzertgÃ¤ste sind im Anschluss an das Konzert zu einem gemeinsamen Empfang des BundesprÃ¤sidenten und des niedersÃ¤chsischen MinisterprÃ¤sidenten eingeladen. \n  \n1. Tag: Die Landeshauptstadt Hannover \nFahrt Ã¼ber die Autobahn Frankfurt &#8211; nach Hannover. Nach der Zimmerverteilung fahren Sie in die Innenstadt und werden zu einem Stadtspaziergang erwartet. \nDer Stadtrundgang durch die Innen- und Altstadt von Hannover zeigt Ihnen einen spannenden Einblick in die verschiedenen Epochen der Zeitgeschichte der Stadt. Vorbei an den SehenswÃ¼rdigkeiten rund um das Leineschloss spazieren wir durch die malerische Altstadt mit ihren mittelalterlichen FachwerkhÃ¤usern zur imposanten Marktkirche und dem Leineufer und den Prachtbauten wie das Neue Rathaus und die Oper. \nZum Abendessen werden wir im Restaurant neben dem Hotel erwartet. \n  \n2. Tag: Benefizkonzert des BundesprÃ¤sidenten \nSie genieÃŸen das sonntÃ¤gliche FrÃ¼hstÃ¼cksbuffet und fahren dann zum HÃ¶hepunkt unserer Reise\, dem Benefizkonzert des BundesprÃ¤sidenten im Kuppelsaal des Congress Centers Hannover. Wegen der Sicherheitsvorkehrungen mÃ¼ssen Sie bereits um 09.30 Uhr im Congress Center sein. \n11.00 Uhr Kuppelsaal Hannover: Benefizkonzert des BundesprÃ¤sidenten \nDirigent:Â Â Â Â Â Â Â  Stanislav Kochanovsky \nBariton:Â Â Â Â Â Â Â Â Â  Christian Gerhaher \nModeration:Â  Siham El-Maiouni \nNDR Radiophilharmonie \nGustav Mahler: Â Â Â Â Â  AusgewÃ¤hlte Lieder \nHector Berlioz:Â Â Â Â Â Â  Symphonie fantastique op. 14 \nâ€žEpisode aus dem Leben eines KÃ¼nstlersâ€œ \nAm Nachmittag unternehmen Sie unter fachkundiger Leitung eine Rundfahrt durch die Landeshauptstadt und verschiedene AuÃŸenbezirke: Die ehemalige Festungs- und Residenzstadt Hannover gilt als die grÃ¼nste GroÃŸstadt Deutschlands. Das Leine-Ufer zieren 200 StraÃŸenkunstwerke der KÃ¼nstlerin Niki de Saint Phalle. Das Wahrzeichen der Stadt ist das Neue Rathaus und die Oper\, aber auch der kÃ¼nstlich angelegte Maschsee prÃ¤gen das Bild der Stadt. Beim kleinen Spaziergang in den HerrenhÃ¤user GÃ¤rten erleben Sie barocke Gartenkunst auf hÃ¶chstem Niveau. Dieses Kleinod verdankt Hannover einer auÃŸergewÃ¶hnlichen Frau: KurfÃ¼rstin Sophie von der Pfalz lieÃŸ den GroÃŸen Garten nach franzÃ¶sischen\, italienischen und niederlÃ¤ndischen Vorbildern anlegen und machte ihn zu ihrem Lebenswerk. \nAm Abend gemeinsames Abendessen im Restaurant. \n  \n3. Tag: RÃ¼ckreise Ã¼ber Alsfeld \nDie RÃ¼ckreise unterbrechen wir in Alsfeld\, die Stadt der MÃ¤rchen und Fachwerkbauten mit dem weltbekannten Rathaus. \nNach der Mittagspause im Restaurant Gelegenheit zu einem kleinen Spaziergang\, ehe Sie die Heimreise in die Ausgangsorte antreten. \nAnkunft in LU geplant fÃ¼r ca. 18.00 Uhr \n  \nDie Beherbergungssteuer der Stadt Hannover ist direkt im Hotel zu entrichten (nicht im Reisepreis enthalten)\, pro Person im DZ ca. â‚¬ 7\,&#8211;\, im EZ ca. â‚¬ 9\,&#8211; \n  \n&#8211; DurchfÃ¼hrung der Reise in Zusammenarbeit mit unserem Partner Pro-Touristik &#8211;
URL:https://fichtenkamm.de/reise/festliches-benefitzkonzert-in-hannover/
CATEGORIES:Exclusivreise,Kurzreisen,Musikreisen
END:VEVENT
END:VCALENDAR