BEGIN:VCALENDAR
VERSION:2.0
PRODID:-//Fichtenkamm Reisen - ECPv5.12.3//NONSGML v1.0//EN
CALSCALE:GREGORIAN
METHOD:PUBLISH
X-WR-CALNAME:Fichtenkamm Reisen
X-ORIGINAL-URL:https://fichtenkamm.de
X-WR-CALDESC:Veranstaltungen für Fichtenkamm Reisen
BEGIN:VTIMEZONE
TZID:Europe/Berlin
BEGIN:DAYLIGHT
TZOFFSETFROM:+0100
TZOFFSETTO:+0200
TZNAME:CEST
DTSTART:20250330T010000
END:DAYLIGHT
BEGIN:STANDARD
TZOFFSETFROM:+0200
TZOFFSETTO:+0100
TZNAME:CET
DTSTART:20251026T010000
END:STANDARD
END:VTIMEZONE
BEGIN:VEVENT
DTSTART;VALUE=DATE:20250906
DTEND;VALUE=DATE:20250907
DTSTAMP:20260421T215430
CREATED:20250205T162202Z
LAST-MODIFIED:20250206T135142Z
UID:15357-1757116800-1757203199@fichtenkamm.de
SUMMARY:Eurometropole Metz
DESCRIPTION:Entdecken Sie die ehemalige lothringische Hauptstadt\, die zu den schönsten Städten der moselfränkischen Region zählt. Die prächtige Altstadt mit ihren verwinkelten Gassen lädt zum Bummeln ein.
URL:https://fichtenkamm.de/reise/eurometropole-metz-4/
CATEGORIES:Tagesreisen
END:VEVENT
END:VCALENDAR