BEGIN:VCALENDAR
VERSION:2.0
PRODID:-//Fichtenkamm Reisen - ECPv5.12.3//NONSGML v1.0//EN
CALSCALE:GREGORIAN
METHOD:PUBLISH
X-WR-CALNAME:Fichtenkamm Reisen
X-ORIGINAL-URL:https://fichtenkamm.de
X-WR-CALDESC:Veranstaltungen für Fichtenkamm Reisen
BEGIN:VTIMEZONE
TZID:Europe/Berlin
BEGIN:DAYLIGHT
TZOFFSETFROM:+0100
TZOFFSETTO:+0200
TZNAME:CEST
DTSTART:20240331T010000
END:DAYLIGHT
BEGIN:STANDARD
TZOFFSETFROM:+0200
TZOFFSETTO:+0100
TZNAME:CET
DTSTART:20241027T010000
END:STANDARD
END:VTIMEZONE
BEGIN:VEVENT
DTSTART;VALUE=DATE:20240716
DTEND;VALUE=DATE:20240717
DTSTAMP:20260422T223012
CREATED:20240605T135553Z
LAST-MODIFIED:20240605T135706Z
UID:15116-1721088000-1721174399@fichtenkamm.de
SUMMARY:Entlang der Edelsteinstraße
DESCRIPTION:Der Ruf von Idar-Oberstein gründet sind auf die einst reichen Achatvorkommen. Es entwickelte sich ein europaweit bedeutender Platz des Edelsteinhandels und der Schmuckindustrie. \nWir starten in Ludwigshafen und fahren über Kaiserslautern durch die idyllische Landschaft von Pfalz und Hunsrück nach Idar-Oberstein. Unterwegs stärken wir uns bei einem Sektfrühstück mit Kaffee\, Sekt\, frisch belegten Brötchen und Kuchen. In Kurz vor Idar-Oberstein werden wir im Schmuck- und Mineralienhaus und dem angeschlossenen privaten Museum vom Inhaber persönlich bereits erwartet\, der uns in der Schleiferei den Schliff der edlen Steine näherbringen wird. Wir erleben staunend\, wie aus einem unscheinbaren Stein ein glänzender Edelstein wird. In den Ausstellungsräumen wird die Verlockung groß sein\, vielleicht Euros in Edelsteine zu tauschen? \nZur Mittagszeit genießen wir den regionalen Ida-Obersteiner Spießbraten über Buchenholz gegrillt\, mit Salatbüffet und frischem Brot. \nWir fahren weiter mit sachkundiger Reiseleitung entlang der Edelsteinstraße nach Idar-Oberstein. Beim Spaziergang mit unserem Reiseleiter erfahren Sie Interessantes über die Stadt der Edelsteine. Im Anschluss verbleit Ihnen freie Zeit für eigene Entdeckungen\, wie z.B. ein Besuch im Deutschen Edelsteinmuseum (Eintritt nicht im RP enthalten)\, oder Sie genießen in einem der zahlreichen Cafés eine Pause. \nRückfahrt geplant für 16.30/17.00 Uhr\, Ankunft in LU ca. 19.00/19.30 Uhr.
URL:https://fichtenkamm.de/reise/entlang-der-edelsteinstrasse/
CATEGORIES:Tagesreisen
END:VEVENT
END:VCALENDAR