BEGIN:VCALENDAR
VERSION:2.0
PRODID:-//Fichtenkamm Reisen - ECPv5.12.3//NONSGML v1.0//EN
CALSCALE:GREGORIAN
METHOD:PUBLISH
X-WR-CALNAME:Fichtenkamm Reisen
X-ORIGINAL-URL:https://fichtenkamm.de
X-WR-CALDESC:Veranstaltungen für Fichtenkamm Reisen
BEGIN:VTIMEZONE
TZID:Europe/Berlin
BEGIN:DAYLIGHT
TZOFFSETFROM:+0100
TZOFFSETTO:+0200
TZNAME:CEST
DTSTART:20250330T010000
END:DAYLIGHT
BEGIN:STANDARD
TZOFFSETFROM:+0200
TZOFFSETTO:+0100
TZNAME:CET
DTSTART:20251026T010000
END:STANDARD
END:VTIMEZONE
BEGIN:VEVENT
DTSTART;VALUE=DATE:20250625
DTEND;VALUE=DATE:20250630
DTSTAMP:20260422T103239
CREATED:20250115T181708Z
LAST-MODIFIED:20250115T181708Z
UID:15300-1750809600-1751241599@fichtenkamm.de
SUMMARY:Dresden - Barockperle an der Elbe
DESCRIPTION:Dresden\, das „Elbflorenz“\, fasziniert mit einer außergewöhnlichen Mischung aus barocker Architektur\, Weltklasse-Kunst und atemberaubenden Flusslandschaften. Die Altstadt glänzt mit historischen Schätzen wie der berühmten Frauenkirche und dem Zwinger. Entdecken Sie die idyllische Sächsische Schweiz\, das märchenhafte Schloss Pillnitz und das charmante Städtchen Pirna. Erleben Sie diese einzigartige Stadt in ihrer ganzen Vielfalt! \n1. Tag:   Anreise\nAm Morgen treten Sie Ihre Reise nach Dresden an. Sie beziehen Ihr Zimmer im Maritim-Hotel und können sich danach aufmachen zu einem ersten Erkundungsspaziergang in der Stadt. Zum Abendessen werden Sie im eleganten Wintergartenrestaurant des Hotels erwartet. \n2. Tag:   Dresden\nAm Vormittag lernen Sie bei einem Rundgang die eindrucksvollen Sehenswürdigkeiten Dresdens kennen. Entdecken Sie die historischen Bauwerke vergangener Zeiten wie z.B. den Zwinger\, das Residenzschloss\, die Semperoper und die Kathedrale (Außenbesichtigungen). Beim Bummel über die Brühlsche Terrasse entdecken Sie den historischen Neumarkt und die Frauenkirche. Nachmittags besuchen Sie das historische Grüne Gewölbe\, Museumssammlung der ehemaligen Schatzkammer der Wettiner Fürsten. Ein Audio-Guide begleitet Ihren Gang durch die acht prunkvollen Räume der Schatzkammer August des Starken und gibt Ihnen individuelle Erklärungen zu dem jeweiligen besichtigten Exponat. Der Rest des Tages steht Ihnen zur freien Verfügung. \n3. Tag:   Stadtrundfahrt & Semperoper\nWährend der Busrundfahrt zeigen sich Ihnen die anderen Facetten von Dresden: Gründerzeitviertel\, romantische Elbschlösser\, das berühmte Blaue Wunder und die ältesten Bergbahnen Europas. Sie fahren mit der Schwebebahn hinauf auf die Loschwitzer Höhen. Danach Weiterfahrt in die Dresdner Neustadt. Hier lebte Erich Kästner\, einer der bekanntesten deutschen Schriftsteller. Es gibt hier den schönsten Milchladen der Welt\, das Szeneviertel und die mondäne Königsstraße. Ein weiterer Höhepunkt ist die Führung in der Sächsischen Staatsoper\, der Semperoper\, mit ihrer prachtvollen Innenausstattung. \n4. Tag:   Freizeit &#8211; Sächsische Schweiz (exkl.) \nVerbringen Sie den Tag in Dresden\, besuchen Sie z.B. eines der zahlreichen Museen und genießen Sie das Flair der Stadt. Oder unternehmen Sie einen Ausflug in die Sächsische Schweiz (exkl.). Zunächst sehen Sie in der prächtigen Sommerresidenz Pillnitz\, wie sich der Adel einst vergnügte und wie man eine ganz besondere Parkanlage gestaltete\, deren Baumbestand einzigartig in Europa ist. Danach kleiner Spaziergang durch das mittelalterliche Pirna mit einem Abstecher in eine der ältesten Kaffeeröstereien Sachsens. Im Anschluss genießen Sie eine wunderschöne Schifffahrt durch das romantische Elbtal (witterungsbedingte Änderung möglich). Den Abschluss bildet ein Spaziergang zur berühmten Basteibrücke in der Sächsischen Schweiz. Individueller Tagesausklang in Dresden \n5. Tag:   Rückreise \nMit prunkvollen Eindrücken treten Sie nach dem Frühstück die Rückreise an.
URL:https://fichtenkamm.de/reise/dresden-barockperle-an-der-elbe/
CATEGORIES:Genuss- & Erlebnisreisen
ATTACH;FMTTYPE=image/jpeg:https://fichtenkamm.de/wp-content/uploads/2021/01/5kulturfahrt2008tag5_0266.jpg
END:VEVENT
END:VCALENDAR