BEGIN:VCALENDAR
VERSION:2.0
PRODID:-//Fichtenkamm Reisen - ECPv5.12.3//NONSGML v1.0//EN
CALSCALE:GREGORIAN
METHOD:PUBLISH
X-WR-CALNAME:Fichtenkamm Reisen
X-ORIGINAL-URL:https://fichtenkamm.de
X-WR-CALDESC:Veranstaltungen für Fichtenkamm Reisen
BEGIN:VTIMEZONE
TZID:Europe/Berlin
BEGIN:DAYLIGHT
TZOFFSETFROM:+0100
TZOFFSETTO:+0200
TZNAME:CEST
DTSTART:20250330T010000
END:DAYLIGHT
BEGIN:STANDARD
TZOFFSETFROM:+0200
TZOFFSETTO:+0100
TZNAME:CET
DTSTART:20251026T010000
END:STANDARD
END:VTIMEZONE
BEGIN:VEVENT
DTSTART;VALUE=DATE:20251004
DTEND;VALUE=DATE:20251005
DTSTAMP:20260421T232431
CREATED:20250902T094957Z
LAST-MODIFIED:20250902T094957Z
UID:16119-1759536000-1759622399@fichtenkamm.de
SUMMARY:Dinkelsbühl
DESCRIPTION:Die schöne Reichsstadt erwartet Sie mit einem geführten Altstadtrundgang und anschließendem Mittagessen. Erfahren Sie bei Ihrem Rundgang mehr über die Geschichte und bewundern Sie die Sehenswürdigkeiten der &#8222;schönsten Altstadt&#8220; Deutschlands!
URL:https://fichtenkamm.de/reise/dinkelsbuehl-2/
CATEGORIES:Tagesreisen
ATTACH;FMTTYPE=image/jpeg:https://fichtenkamm.de/wp-content/uploads/2024/04/3AdobeStock_294869626_Dinkelsbuehl.jpg
END:VEVENT
END:VCALENDAR