BEGIN:VCALENDAR
VERSION:2.0
PRODID:-//Fichtenkamm Reisen - ECPv5.12.3//NONSGML v1.0//EN
CALSCALE:GREGORIAN
METHOD:PUBLISH
X-WR-CALNAME:Fichtenkamm Reisen
X-ORIGINAL-URL:https://fichtenkamm.de
X-WR-CALDESC:Veranstaltungen fÃ¼r Fichtenkamm Reisen
BEGIN:VTIMEZONE
TZID:Europe/Berlin
BEGIN:DAYLIGHT
TZOFFSETFROM:+0100
TZOFFSETTO:+0200
TZNAME:CEST
DTSTART:20250330T010000
END:DAYLIGHT
BEGIN:STANDARD
TZOFFSETFROM:+0200
TZOFFSETTO:+0100
TZNAME:CET
DTSTART:20251026T010000
END:STANDARD
BEGIN:DAYLIGHT
TZOFFSETFROM:+0100
TZOFFSETTO:+0200
TZNAME:CEST
DTSTART:20260329T010000
END:DAYLIGHT
BEGIN:STANDARD
TZOFFSETFROM:+0200
TZOFFSETTO:+0100
TZNAME:CET
DTSTART:20261025T010000
END:STANDARD
END:VTIMEZONE
BEGIN:VEVENT
DTSTART;VALUE=DATE:20251230
DTEND;VALUE=DATE:20260103
DTSTAMP:20260422T005409
CREATED:20250902T084532Z
LAST-MODIFIED:20250902T084532Z
UID:16086-1767052800-1767398399@fichtenkamm.de
SUMMARY:Der Jahreswechsel in â€žkleinâ€œ Amsterdam
DESCRIPTION:Feiern Sie den Jahreswechsel in der UniversitÃ¤tsstadt Leiden\, auch â€žKlein Amsterdamâ€œ genannt und bekannt vor allem als Geburtsort von Rembrandt. Aber Leiden hat noch viel mehr zu bieten\, zum Beispiel eine geschichtstrÃ¤chtige Burganlage und hervorragende ShoppingmÃ¶glichkeiten. Lernen Sie Rotterdam bei einer Hafenrundfahrt und Den Haag bei einer Stadtrundfahrt kennen. Ein weiteres Highlight ist das Neujahrsschwimmen in Scheveningen. GenieÃŸen Sie den Jahreswechsel und starten Sie gut ins Jahr 2026! \nÂ  \n 1. Tag:Â Â  Anreise  \nAnreise nach Leiden\, dem kleinen Juwel\, auch â€žklein Amsterdamâ€œ genannt. Freizeit fÃ¼r einen individuellen Bummel durch das historische Zentrum in der schÃ¶nen Rembrandt-Stadt. Hotelanreise\, Check In und Abendessen. \n  \n 2. Tag: Â  Rotterdam & Silvesterfeier \nHeute steht der imposante Welthafen Rotterdam auf dem Programm. Lassen Sie sich von dem vielen Treiben in der faszinierenden Stadt und am Hafen mitreiÃŸen. Es erwartet Sie eine eindrucksvolle Hafenrundfahrt durch den Welthafen. AnschlieÃŸend bleibt noch Zeit fÃ¼r einen Bummel in Rotterdam. Am Nachmittag RÃ¼ckfahrt nach Leiden. Hier bereiten sie sich auf das Highlight des Abends vor. Feiern Sie ausgelassen in ein gutes neues Jahr. \n  \n 3. Tag: Â  Nordseebad Scheveningen und Den Haag \nNach einem ausgiebigen FrÃ¼hstÃ¼ck am Neujahrsmorgen beginnt am spÃ¤ten Vormittag ein toller Neujahrsausflug in das berÃ¼hmte Nordseebad Scheveningen. Hier werden jedes Jahr bis zu 10.000 Teilnehmer\, natÃ¼rlich zÃ¼nftig in Orange gekleidet\, zum grÃ¶ÃŸten hollÃ¤ndischen Neujahrsschwimmen erwartet. Erleben Sie dieses Spektakel am Strand um 12 Uhr zur Mittagszeit. Am Nachmittag besuchen Sie die prachtvolle Stadt Den Haag mit einer Stadtrundfahrt vorbei an der alten Burganlage\, dem Friedenspalast und viele weitere SehenswÃ¼rdigkeiten der hollÃ¤ndischen Regierungsstadt. Das Hotel erwartet Sie zu einem leckeren Abendessen. \n  \n 4. Tag: RÃ¼ckreise \nLeider heiÃŸt es heute nach dem FrÃ¼hstÃ¼ck leider schon wieder Abschied nehmen von Leiden. Mit schÃ¶nen Erinnerungen treten Sie die Heimreise an. \n 
URL:https://fichtenkamm.de/reise/der-jahreswechsel-in-klein-amsterdam/
CATEGORIES:Winter- & Silvesterreisen
ATTACH;FMTTYPE=image/jpeg:https://fichtenkamm.de/wp-content/uploads/2025/07/AdobeStock_260589999_Scheveningen.jpg
END:VEVENT
END:VCALENDAR