BEGIN:VCALENDAR
VERSION:2.0
PRODID:-//Fichtenkamm Reisen - ECPv5.12.3//NONSGML v1.0//EN
CALSCALE:GREGORIAN
METHOD:PUBLISH
X-WR-CALNAME:Fichtenkamm Reisen
X-ORIGINAL-URL:https://fichtenkamm.de
X-WR-CALDESC:Veranstaltungen für Fichtenkamm Reisen
BEGIN:VTIMEZONE
TZID:Europe/Berlin
BEGIN:DAYLIGHT
TZOFFSETFROM:+0100
TZOFFSETTO:+0200
TZNAME:CEST
DTSTART:20250330T010000
END:DAYLIGHT
BEGIN:STANDARD
TZOFFSETFROM:+0200
TZOFFSETTO:+0100
TZNAME:CET
DTSTART:20251026T010000
END:STANDARD
END:VTIMEZONE
BEGIN:VEVENT
DTSTART;VALUE=DATE:20250614
DTEND;VALUE=DATE:20250615
DTSTAMP:20260422T115844
CREATED:20250220T164634Z
LAST-MODIFIED:20250220T164634Z
UID:15401-1749859200-1749945599@fichtenkamm.de
SUMMARY:Blaubeuren & der Blautopf
DESCRIPTION:Erleben Sie eine Panoramareiche Fahrt mit dem Blautopfbähnle mit Zwischenstopp zur Einkehr am Aussichtspunk Schillerstein. Über einen kleinen schmalen Pfad erreichen Sie zu Fuß die Aussichtskanzel. Genießen Sie den herrlichen Blick über das Blautal. Anschließend gemütliche Einkehr in der Waldgaststätte Schillerstein. Nach einer ausgiebigen Kaffee- oder Vesperpause treten Sie die Rückfahrt an. Die Bähnlestour führt Sie durch das idyllische Trockental Riedental ins Aachtal. Hier haben Sie herrliche Blicke auf die zauberhaften Felsformationen des Aachtals. Vorbei an bedeutenden Grabungsstätten Sirgensteinhöhle und Geißenklösterle fahren Sie zurück zum Blautopf.
URL:https://fichtenkamm.de/reise/blaubeuren-der-blautopf/
CATEGORIES:Tagesreisen
END:VEVENT
END:VCALENDAR