BEGIN:VCALENDAR
VERSION:2.0
PRODID:-//Fichtenkamm Reisen - ECPv5.12.3//NONSGML v1.0//EN
CALSCALE:GREGORIAN
METHOD:PUBLISH
X-WR-CALNAME:Fichtenkamm Reisen
X-ORIGINAL-URL:https://fichtenkamm.de
X-WR-CALDESC:Veranstaltungen für Fichtenkamm Reisen
BEGIN:VTIMEZONE
TZID:Europe/Berlin
BEGIN:DAYLIGHT
TZOFFSETFROM:+0100
TZOFFSETTO:+0200
TZNAME:CEST
DTSTART:20220327T010000
END:DAYLIGHT
BEGIN:STANDARD
TZOFFSETFROM:+0200
TZOFFSETTO:+0100
TZNAME:CET
DTSTART:20221030T010000
END:STANDARD
END:VTIMEZONE
BEGIN:VEVENT
DTSTART;VALUE=DATE:20220714
DTEND;VALUE=DATE:20220719
DTSTAMP:20260424T031021
CREATED:20220209T102233Z
LAST-MODIFIED:20220224T113143Z
UID:12627-1657756800-1658188799@fichtenkamm.de
SUMMARY:Bezaubernde Wachau & Wien
DESCRIPTION:Die Weinbauregion Wachau in Niederösterreich ist eine Landschaft zum Wohlfühlen und zugleich seit dem Jahr 2000 Weltkultur- und naturerbe. Auf dieses Donautal zwischen Krems und Melk verteilen sich etwa 1.400 Hektar Rebfläche. Sehenswert ist auch die allseits bekannte Burgruine Dürnstein. Nicht umsonst sagt man\, dass die Wachau die „schönsten 35 Kilometer von Österreich“ sind. Eine Schifffahrt auf der Donau sowie natürlich Wien mit seiner Nostalgie\, dem großartigen Schloss Schönbrunn\, Kunst in der Albertina und die Wiener Kaffeehaus-Stimmung runden diese abwechslungsreiche Reise ab.\nTag 1: Anreise\n \nAnreise über Passau &#8211; Linz in die Wachau zu Ihrem schönen ****Hotel. Nach der Zimmerverteilung erwartet Sie die Hotelküche zum Abendessen. \nTag 2:  Melk &#8211; Donauschifffahrt\n \nBesuchen Sie heute das weltbekannte Stift Melk\, eines der prunkvollsten Barockbauten Europas. Bei einer Führung erfahren Sie mehr über das Benediktinerkloster und seine Kunstschätze. Anschließend genießen Sie bei einer schönen Donauschifffahrt die Aussicht auf das Schloss Schönbühel\, die Burgruine Aggstein bis hin zum reizvollen Ort Krems. Am Nachmittag geht es zurück zu Ihrem Hotel und anschließend Abendessen. \nTag 3:  Wachau\n \nNach einer Stärkung am Frühstücksbüffet geht es heute in die Wachau. Mit einem örtlichen Guide werden Sie die Sehenswürdigkeiten der Wachau näher kennen lernen. Hier haben Sie auch Zeit zur freien Verfügung. Am Nachmittag geht es zurück zu Ihrem Hotel mit anschließendem Abendessen. \nTag 4:  Wien\n \nWien\, Wien\, nur Du allein&#8230; Sie lernen Wien bei einer kombinierten Stadtrundfahrt/-führung kennen! Bewundern Sie die Prachtbauten wie Hofburg\, Karlskirche und Stephansdom. Zeit für eigene Erkundungen und Pausen haben wir berücksichtigt. Nachmittags Rückfahrt zum Hotel und Abendessen. \nTag 5:  Rückreise\n \nNach dem Frühstücksbüffet wird das Gepäck verladen. Danach heißt es Abschied nehmen von Ihrem Urlaubsort.
URL:https://fichtenkamm.de/reise/bezaubernde-wachau-und-wien/
CATEGORIES:Genuss- & Erlebnisreisen
ATTACH;FMTTYPE=image/jpeg:https://fichtenkamm.de/wp-content/uploads/2020/01/Donaukreuzfahrt_-3-Fotolia_541018_Fiaker-Riesenrad.jpg
END:VEVENT
END:VCALENDAR