BEGIN:VCALENDAR
VERSION:2.0
PRODID:-//Fichtenkamm Reisen - ECPv5.12.3//NONSGML v1.0//EN
CALSCALE:GREGORIAN
METHOD:PUBLISH
X-WR-CALNAME:Fichtenkamm Reisen
X-ORIGINAL-URL:https://fichtenkamm.de
X-WR-CALDESC:Veranstaltungen fÃ¼r Fichtenkamm Reisen
BEGIN:VTIMEZONE
TZID:Europe/Berlin
BEGIN:DAYLIGHT
TZOFFSETFROM:+0100
TZOFFSETTO:+0200
TZNAME:CEST
DTSTART:20240331T010000
END:DAYLIGHT
BEGIN:STANDARD
TZOFFSETFROM:+0200
TZOFFSETTO:+0100
TZNAME:CET
DTSTART:20241027T010000
END:STANDARD
END:VTIMEZONE
BEGIN:VEVENT
DTSTART;VALUE=DATE:20240831
DTEND;VALUE=DATE:20240905
DTSTAMP:20260422T204740
CREATED:20240119T182151Z
LAST-MODIFIED:20240213T113118Z
UID:14377-1725062400-1725494399@fichtenkamm.de
SUMMARY:Bergsommer in GaltÃ¼r
DESCRIPTION:GaltÃ¼r ist die zurÃ¼ckhaltendere und stillere Schwester von Ischgl. Der Ort liegt im hinteren Paznaun in einer Talweitung zwischen der Verwallgruppe im Norden und Silvretta im SÃ¼den. Der Bergsommer in GaltÃ¼r hat QualitÃ¤t und eine Angebotsvielfalt\, die Lust auf mehr macht. Die Bergriesen mit ihren Gletschern sind in dieser Urlaubsregion zum Greifen nah\, ohne bedrohlich zu wirken. Im Gegenteil: Die weite Ebene mit ihren beschaulichen SeitentÃ¤lern lÃ¤dt nahezu ein\, tief durchzuatmen. GaltÃ¼r zu erleben\, ist eine unvergessliche Entdeckungsreise. \n  \n 1. Tag: Â Â  AnreiseÂ Â Â Â Â Â Â Â Â Â Â Â Â Â Â Â Â Â Â Â Â Â Â   \nAnreise Ã¼ber Memmingen nach Bregenz. Hier angekommen\, kÃ¶nnen Sie sich einen individuellen Ãœberblick Ã¼ber diese schÃ¶ne Stadt verschaffen. Am Nachmittag geht es weiter Ã¼ber durchs Paznauntal nach GaltÃ¼r zu Ihrem Hotel auf 1583 m SeehÃ¶he. \n  \n 2. Tag: Â  Silvretta HochalpenstraÃŸe \nNach dem FrÃ¼hstÃ¼ck fahren Sie heute Ã¼ber die Silvretta HochalpenstraÃŸe zur BÃ¼hlerhÃ¶he auf 2.036 m. Hier\nbieten sich herrliche WandermÃ¶glichkeiten an oder einfach nur Zeit zum Verweilen am Berggasthof. Nach lÃ¤ngerem Aufenthalt RÃ¼ckfahrt nach GaltÃ¼r zu Ihrem Hotel. \n  \n 3. Tag:Â Â  Kaunertal \nGemeinsam mit Ihrem Reiseleiter fahren Sie heute Ã¼ber Serfaus &#8211; Fiss ins benachbarte Kaunertal. Die Kaunertaler GletscherstraÃŸe ist ein Naturschauspiel\, das Seinesgleichen sucht. Nach 26 Kilometer und 29 Kehren werden Sie auf 2.750 Meter mit einer grandiosen Aussicht belohnt. Von hier oben haben Sie die MÃ¶glichkeit zu einer kleinen Wanderung an den Gletschersee mit Einkehr in einem Bergrestaurant. \n  \n4. Tag:Â  Â Samnaun \nHeute starten Sie zum Ausflug nach Samnaun mit einem Ã¶rtlichen Guide. Der Bus bringt Sie nach Ischgl und von hier fÃ¼hrt die Fahrt weiter mit der Gondelbahn auf 2.000 m SeehÃ¶he. GenieÃŸen Sie die grandiose Bergwelt bei der Auffahrt mit der Gondel. Bei der Schmuggler-Alm bietet sich natÃ¼rlich auch die Gelegenheit zum zollfreien Einkauf. \n  \n 5. Tag:Â Â  RÃ¼ckreise \nLeider heiÃŸ es heute schon wieder Abschied von GaltÃ¼r nehmen. Nach dem FrÃ¼hstÃ¼ck treten Sie mit schÃ¶nen EindrÃ¼cken die RÃ¼ckreise an. \n  \n 
URL:https://fichtenkamm.de/reise/bergsommer-in-galtuer-2/
CATEGORIES:Genuss- & Erlebnisreisen,Urlaubsreisen
END:VEVENT
END:VCALENDAR