BEGIN:VCALENDAR
VERSION:2.0
PRODID:-//Fichtenkamm Reisen - ECPv5.12.3//NONSGML v1.0//EN
CALSCALE:GREGORIAN
METHOD:PUBLISH
X-WR-CALNAME:Fichtenkamm Reisen
X-ORIGINAL-URL:https://fichtenkamm.de
X-WR-CALDESC:Veranstaltungen fÃ¼r Fichtenkamm Reisen
BEGIN:VTIMEZONE
TZID:Europe/Berlin
BEGIN:DAYLIGHT
TZOFFSETFROM:+0100
TZOFFSETTO:+0200
TZNAME:CEST
DTSTART:20240331T010000
END:DAYLIGHT
BEGIN:STANDARD
TZOFFSETFROM:+0200
TZOFFSETTO:+0100
TZNAME:CET
DTSTART:20241027T010000
END:STANDARD
END:VTIMEZONE
BEGIN:VEVENT
DTSTART;VALUE=DATE:20241214
DTEND;VALUE=DATE:20241218
DTSTAMP:20260422T203611
CREATED:20240119T174335Z
LAST-MODIFIED:20240216T162441Z
UID:14409-1734134400-1734479999@fichtenkamm.de
SUMMARY:Bergmannskonzert im Erzgebirge
DESCRIPTION:Dort wo die SchwibbÃ¶gen\, RÃ¤uchermÃ¤nnchen oder Weihnachtspyramiden herkommen\, muss auch Weihnachten zu Hause sein. Schon seit jeher ist das Erzgebirge der Inbegriff fÃ¼r weihnachtliches Kunsthandwerk. Der Kurort Oberwiesenthal im Erzgebirge ist die hÃ¶chstgelegene Stadt Deutschlands. GenieÃŸen Sie hier die wunderbare Natur und reine Luft in einer einmaligen alpinen HÃ¶henlage im deutschen Mittelgebirge. Lassen Sie sich bei dieser Reise in Weihnachtsstimmung versetzen und einstimmen mit den traditionellen Bergmannskapellen beim Anschnitt des Riesenstollens. \n  \n 1. Tag: Anreise\n \nAnreise an NÃ¼rnberg vorbei durch die Oberpfalz â€“ Karlsbad zu Ihrem ****Hotel im Luftkurort Oberwiesenthal. Nach Bezug der Zimmer dÃ¼rfen Sie sich am Abend auf den Riesenstollenanschnitt und GlÃ¼hwein satt zum bergmÃ¤nnischen Konzert mit einem BlÃ¤serquartett auf dem HotelgelÃ¤nde freuen. \n  \n 2. Tag: Annaberg & Freiberg\n \nHeute erwartet Sie eine Erzgebirgs-Panoramarundfahrt. ZunÃ¤chst geht es nach Annaberg-Buchholz\, wo Sie die bekannte St. Annenkirche besichtigen kÃ¶nnen. Danach geht die Fahrt weiter nach Freiberg. Bei einem Rundgang durch die erste sÃ¤chsische Bergbaustadt werden Sie den Dom St. Marien sowie den Freiberger Dom entdecken. Ebenso werden Sie die wunderschÃ¶ne Nikolaikirche und das Ã¤lteste Stadttheater der Welt besichtigen. Ein anschlieÃŸender Spaziergang Ã¼ber den Freiberger Weihnachtsmarkt wird Sie nicht enttÃ¤uschen. ZurÃ¼ck in Oberwiesenthal erwartet Sie ein vorweihnachtliches Abendessen im Hotel. \n  \n 3. Tag: Seiffen & Neuhausen\n \nIhr Reiseleiter begleitet Sie heute zum Spielzeugdorf Seiffen mit Gelegenheit zur Besichtigung des Spielzeugmuseums. Im Anschluss kÃ¶nnen Sie nach Herzenslust durch die KunstgeschÃ¤fte stÃ¶bern\, bevor es dann weitergeht nach Neuhausen. Erkunden Sie hier das NuÃŸknackermuseum\, das GrÃ¶ÃŸte in ganz Europa\, wahrscheinlich sogar der ganzen Welt. \n  \n 4. Tag:Â  RÃ¼ckreise\n \nIn weihnachtlicher Stimmung und mit vielen neuen EindrÃ¼cken treten Sie nach dem FrÃ¼hstÃ¼ck die Heimreise an.
URL:https://fichtenkamm.de/reise/bergmannskonzert-im-erzgebirge-2/
CATEGORIES:Kurzreisen,Musikreisen,Winter- & Silvesterreisen
ATTACH;FMTTYPE=image/jpeg:https://fichtenkamm.de/wp-content/uploads/2023/03/3AdobeStock_128499141.jpg
END:VEVENT
END:VCALENDAR