BEGIN:VCALENDAR
VERSION:2.0
PRODID:-//Fichtenkamm Reisen - ECPv5.12.3//NONSGML v1.0//EN
CALSCALE:GREGORIAN
METHOD:PUBLISH
X-WR-CALNAME:Fichtenkamm Reisen
X-ORIGINAL-URL:https://fichtenkamm.de
X-WR-CALDESC:Veranstaltungen fÃ¼r Fichtenkamm Reisen
BEGIN:VTIMEZONE
TZID:Europe/Berlin
BEGIN:DAYLIGHT
TZOFFSETFROM:+0100
TZOFFSETTO:+0200
TZNAME:CEST
DTSTART:20250330T010000
END:DAYLIGHT
BEGIN:STANDARD
TZOFFSETFROM:+0200
TZOFFSETTO:+0100
TZNAME:CET
DTSTART:20251026T010000
END:STANDARD
END:VTIMEZONE
BEGIN:VEVENT
DTSTART;VALUE=DATE:20250717
DTEND;VALUE=DATE:20250722
DTSTAMP:20260422T084700
CREATED:20250515T095424Z
LAST-MODIFIED:20250515T095424Z
UID:15351-1752710400-1753142399@fichtenkamm.de
SUMMARY:Beliebtestes Stadtfest SÃ¼dtirols
DESCRIPTION:Erleben Sie eine unvergessliche Reise durch SÃ¼dtirol und die Tiroler Alpen. Nach einem herrlichen Empfang in Ihrem Hotel geht es auf Entdeckungstour in Innsbruck und zu den Swarovski Kristallwelten. HÃ¶hepunkt der Reise ist das Altstadtfest in Bruneck\, ein festliches Spektakel mit Musik\, regionalen KÃ¶stlichkeiten und einem traditionellen Umzug. Schwelgen Sie ein paar Tage im Genuss kultureller Highlights sowie erholsamer Entspannung.\n \n  \n1. Tag:Â  Anreise \nAnreise Ã¼ber Stuttgart â€“ Ulm â€“ Kempten zu Ihrem Hotel. Am Abend werden Sie von einem GenieÃŸer-MenÃ¼ verwÃ¶hnt \n  \n2. Tag:Â  Dolomitenrundfahrt\n \nEntdecken Sie heute bei einer groÃŸen Rundfahrt die Zauberwelt der Dolomiten. Die Fahrt fÃ¼hrt zum Pordoijoch &#8211; durch das Fassatal zum Sellajoch. Vorbei an Langkofel und der Sellagruppe geht es ins GrÃ¶dnertal mit den schÃ¶nen Urlaubsorten St. Christina\, Wolkenstein und dem Hauptort des Tales: St. Ulrich. Am Abend verwÃ¶hnt Sie wieder Ihr KÃ¼chenchef. \n  \n3. Tag:Â  Innsbruck & Umgebung\n \nHeute geht es in die imperiale Hauptstadt der Alpen\, Innsbruck. Bei einer StadtfÃ¼hrung erfahren Sie wissenswertes Ã¼ber die Stadt und erkunden Highlights wie die Hofburg\, das Theater\, das Goldene Dachl\, den Dom\, die Maria-Theresien-StraÃŸe sowie den Triumpfbogen. Danach besuchen Sie den Swarovski Kristallwelten Store und erhalten Einblicke in die Geschichte dieses Traditionsunternehmens. AuÃŸerdem entdecken Sie die hochkarÃ¤tigen Kunstinstallationen und nehmen eine kristalline Ãœberraschung als Geschenk mit nach Hause. \n  \n4. Tag:Â  Altstadtfest in Bruneck\n \nFreuen Sie sich auf das Highlight der Reise\, das Altstadtfest in Bruneck\, das alle 2 Jahre die ganze Stadt in eine FestbÃ¼hne verwandelt. Auf zahlreichen BÃ¼hnen spielen Bands und Musikkapellen\, kÃ¶stliche Schmankerl aus der Region werden angeboten und ein umfangreiches Rahmenprogramm sorgt fÃ¼r Stimmung. \n  \n5. Tag:Â  RÃ¼ckreise \nGestÃ¤rkt vom FrÃ¼hstÃ¼cksbuffet treten Sie nun\, mit neuen EindrÃ¼cken im GepÃ¤ck\, die Heimreise an.
URL:https://fichtenkamm.de/reise/beliebtestes-stadtfest-suedtirols/
CATEGORIES:Genuss- & Erlebnisreisen,Urlaubsreisen
ATTACH;FMTTYPE=image/jpeg:https://fichtenkamm.de/wp-content/uploads/2025/02/Suedtirol_AdobeStock_471905228.jpg
END:VEVENT
END:VCALENDAR