BEGIN:VCALENDAR
VERSION:2.0
PRODID:-//Fichtenkamm Reisen - ECPv5.12.3//NONSGML v1.0//EN
CALSCALE:GREGORIAN
METHOD:PUBLISH
X-WR-CALNAME:Fichtenkamm Reisen
X-ORIGINAL-URL:https://fichtenkamm.de
X-WR-CALDESC:Veranstaltungen für Fichtenkamm Reisen
BEGIN:VTIMEZONE
TZID:Europe/Berlin
BEGIN:DAYLIGHT
TZOFFSETFROM:+0100
TZOFFSETTO:+0200
TZNAME:CEST
DTSTART:20240331T010000
END:DAYLIGHT
BEGIN:STANDARD
TZOFFSETFROM:+0200
TZOFFSETTO:+0100
TZNAME:CET
DTSTART:20241027T010000
END:STANDARD
END:VTIMEZONE
BEGIN:VEVENT
DTSTART;VALUE=DATE:20241214
DTEND;VALUE=DATE:20241215
DTSTAMP:20260422T151920
CREATED:20240924T143738Z
LAST-MODIFIED:20240924T143738Z
UID:15148-1734134400-1734220799@fichtenkamm.de
SUMMARY:Altdeutscher Weihnachtsmarkt Bad Wimpfen
DESCRIPTION:Erleben Sie den zauberhaften Altdeutschen Weihnachtsmarkt in Bad Wimpfen. Die Altstadt\, geschmückt mit unzähligen beleuchteten Tannenbäumchen und die einzigartige Atmosphäre der Bad Wimpfener Kaiserpfalz bilden den Hintergrund für ein einmaliges romantisches Erlebnis\, bei dem an ca. 120 Ständen kunsthandwerkliche\, hochwertige Waren zum bevorstehenden Fest angeboten werden.
URL:https://fichtenkamm.de/reise/altdeutscher-weihnachtsmarkt-bad-wimpfen/
CATEGORIES:Tagesreisen,Weihnachtsmärkte
ATTACH;FMTTYPE=image/jpeg:https://fichtenkamm.de/wp-content/uploads/2022/02/3AdobeStock_310075016.jpg
END:VEVENT
END:VCALENDAR