BEGIN:VCALENDAR
VERSION:2.0
PRODID:-//Fichtenkamm Reisen - ECPv5.12.3//NONSGML v1.0//EN
CALSCALE:GREGORIAN
METHOD:PUBLISH
X-WR-CALNAME:Fichtenkamm Reisen
X-ORIGINAL-URL:https://fichtenkamm.de
X-WR-CALDESC:Veranstaltungen fÃ¼r Fichtenkamm Reisen
BEGIN:VTIMEZONE
TZID:Europe/Berlin
BEGIN:DAYLIGHT
TZOFFSETFROM:+0100
TZOFFSETTO:+0200
TZNAME:CEST
DTSTART:20220327T010000
END:DAYLIGHT
BEGIN:STANDARD
TZOFFSETFROM:+0200
TZOFFSETTO:+0100
TZNAME:CET
DTSTART:20221030T010000
END:STANDARD
END:VTIMEZONE
BEGIN:VEVENT
DTSTART;VALUE=DATE:20221209
DTEND;VALUE=DATE:20221212
DTSTAMP:20260423T193518
CREATED:20220228T084914Z
LAST-MODIFIED:20220621T144635Z
UID:12473-1670544000-1670803199@fichtenkamm.de
SUMMARY:Adventwochenende in Fulda
DESCRIPTION:Auf Schritt und Tritt treffen Sie in Fulda auf Zeugnisse der Geschichte â€“ nicht nur im berÃ¼hmten Barockviertel rund um den Dom und der Michaelskirche. Der Fuldaer Dom St. Salvator ist nicht nur das berÃ¼hmteste Wahrzeichen der Barockstadt\, er ist auch die bedeutendste Barockkirche Hessens. Die mittelalterliche Altstadt mit ihren kopfsteingepflasterten StraÃŸen\, verwinkelten Gassen\, kleinen verschwiegenen PlÃ¤tzen und liebevoll restaurierten FachwerkhÃ¤usern lÃ¤dt zum vorweihnachtlichen Bummel ein. Die AuslÃ¤ufer des BiosphÃ¤renreservats RhÃ¶n\, eine gefÃ¤llige Landschaft aus Feldern\, Wiesen und WÃ¤ldern\, reichen bis an die Tore der Stadt. GenieÃŸen Sie die romantische Stimmung im Advent. \nÂ  \nTag 1: Anreise Fulda \nAnreise Ã¼ber Frankfurt nach Fulda. Hier erwartet Sie bereits Ihr StadtfÃ¼hrer\, der Ihnen bei einem gemÃ¼tlichen Rundgang die Barockstadt nÃ¤her bringen wird. AnschlieÃŸend geht es in Ihr exklusives ****Maritim Hotel Am SchloÃŸgarten. GenieÃŸen Sie Ihr Abendessen im Hotel. \nTag 2: RÃ¶hn-Rundfahrt \nLernen Sie heute bei einer gefÃ¼hrten Rundfahrt die SchÃ¶nheiten des Mittelgebirges der RhÃ¶n kennen. Hierbei darf ein Besuch der Wasserkuppe\, den hÃ¶chsten Berg der hessischen RhÃ¶n\, natÃ¼rlich nicht fehlen. AnschlieÃŸend haben Sie noch Zeit\, um den schÃ¶nen Weihnachtsmarkt zu erkunden. Am Abend wird Sie Ihr Hotel mit einem weihnachtlichen MenÃ¼ verwÃ¶hnen. \nTag 3: Marburg &#8211; RÃ¼ckreise\n \nNach dem FrÃ¼hstÃ¼ck RÃ¼ckreise Ã¼ber Marburg. Bei einem Stadtrundgang lernen Sie die UniversitÃ¤tsstadt genauer kennen. AnschlieÃŸend Heimreise. \n 
URL:https://fichtenkamm.de/reise/adventwochenende-in-fulda/
CATEGORIES:Kurzreisen,Winter- & Silvesterreisen
ATTACH;FMTTYPE=image/jpeg:https://fichtenkamm.de/wp-content/uploads/2022/02/3AdobeStock_47703148_Fulda-Dom.jpg
END:VEVENT
END:VCALENDAR