BEGIN:VCALENDAR
VERSION:2.0
PRODID:-//Fichtenkamm Reisen - ECPv5.12.3//NONSGML v1.0//EN
CALSCALE:GREGORIAN
METHOD:PUBLISH
X-WR-CALNAME:Fichtenkamm Reisen
X-ORIGINAL-URL:https://fichtenkamm.de
X-WR-CALDESC:Veranstaltungen fÃ¼r Fichtenkamm Reisen
BEGIN:VTIMEZONE
TZID:Europe/Berlin
BEGIN:DAYLIGHT
TZOFFSETFROM:+0100
TZOFFSETTO:+0200
TZNAME:CEST
DTSTART:20220327T010000
END:DAYLIGHT
BEGIN:STANDARD
TZOFFSETFROM:+0200
TZOFFSETTO:+0100
TZNAME:CET
DTSTART:20221030T010000
END:STANDARD
END:VTIMEZONE
BEGIN:VEVENT
DTSTART;VALUE=DATE:20220622
DTEND;VALUE=DATE:20220625
DTSTAMP:20260424T044002
CREATED:20200130T134128Z
LAST-MODIFIED:20220224T111230Z
UID:10467-1655856000-1656115199@fichtenkamm.de
SUMMARY:42. Passionsspiele Oberammergau
DESCRIPTION:Seien Sie dabei und sichern Sie sich Ihr TiÂ­cket fÃ¼r die Passionsspiele\, die nur alle 10 Jahre stattfinden!  \nDie GeÂ­Â­schichte des Oberammergauer Passionsspiels beginnt 1633. Mitten im DreiÂ­Â­Â­ÃŸigjÃ¤hrigen Krieg\, nach monatelangem Leiden und Sterben an der Pest\, beschlossen die Oberammergauer ein GelÃ¼bde abzulegen. So schworen Sie alle 10 Jahre das â€žSpiel vom Leiden\, Sterben und Auferstehen von Jesus Christusâ€œ aufzufÃ¼hren\, sofern niemand mehr an der Pest stirbt. Das Dorf wurde erhÃ¶rt und so erfÃ¼llten sie 1634 zu Pfingsten das Versprechen zum ersten Mal. Ihr Versprechen haben sie bis heute gehalten bis auf die Verschiebung der Spiele 2020 auf Grund der Corona-Pandemie ins Jahr 2022. \nBereits in der Mitte des 18. Jahrhunderts kamen Zuschauer aus allen Teilen Deutschlands nach Oberammergau\, angezogen durch seine Kraft und Ausstrahlung. Mehr als 2.000 Mitwirkende bringen in einer fÃ¼nfstÃ¼ndigen AuffÃ¼hrung die Geschichte des Jesus von Nazareth auf der imposanten FreilichtbÃ¼hÂ­ne des Passionsspieltheaters zu Gesicht und zu GehÃ¶r. Fast die HÃ¤lfte der Bewohner von Oberammergau wird die Geschichte jeÂ­Â­Â­nes Mannes spielen\, dessen Botschaft seit Ã¼ber 2.000 Jahren unÂ­glaubÂ­lich vielen Menschen Hoffnung und LeÂ­Â­benskraft gibt. Dieses besondere Ereignis sollten Sie sich nicht entgehen lassen! \nÂ  \nTag 1:Â  Anreise Ã¼ber Andechs \nAm frÃ¼hen Morgen startet Ihre Reise und fÃ¼hrt Sie Ã¼ber Andechs. Hier erwartet Sie im KlosÂ­Â­ter Andechs eine interessante KirchenfÃ¼hrung. Weiterfahrt nach Oberammergau\, wo Sie nach Ihrem Eintreffen an eiÂ­Â­Â­ner DorffÃ¼hrung teilnehmen kÃ¶nnen. DaÂ­Â­Â­Â­nach Fahrt zu Ihrer Unterkunft mit anschlieÃŸendem Abendessen. \nTag 2:Â  Passionsspiele \nGenieÃŸen Sie das FrÃ¼hstÃ¼ck vom Buffet. Im Anschluss steht Ihnen Zeit zur freien VerfÃ¼gung. Am Nachmittag Fahrt nach Oberammergau\, wo Sie das Highlight Ihrer Reise erwartet. Um 14.30 Uhr beginnt der erste Teil des Passionsspiels. WÃ¤hrend der Pause ist ein gemeinsames Abendessen eingeplant\, bevor gegen 20:00 Uhr der zweite Teil fortgesetzt wird. Nach der AuffÃ¼hrung wird Sie unser Bus wieder zurÃ¼ck zur Unterkunft bringen. \nTag 3:Â  RÃ¼ckreise Ã¼ber Ettal \nNach dem FrÃ¼hstÃ¼ck werden die Koffer verladen und die Heimreise beginnt mit einem Besuch des Benediktinerklosters in Ettal. Die Mittagspause kÃ¶nnen Sie in der schÃ¶nen Klosterbrauerei einlegen. AnschlieÃŸend RÃ¼ckreise zu Ihrem Ausgangsort. \n  \nAufgrund des begrenzten Kartenkontingens und der groÃŸen Nachfrage\, empfehlen wir eine rechtzeitige Buchung! \nBei dieser Reise gelten gesonderte Storno- und Zahlungsbedingungen. Infos hierzu erhalten Sie bei uns im BÃ¼ro.
URL:https://fichtenkamm.de/reise/42-passionsspiele-oberammergau/
CATEGORIES:Hervorgehobene Reisen,Kurzreisen,Musikreisen
END:VEVENT
END:VCALENDAR