BEGIN:VCALENDAR
VERSION:2.0
PRODID:-//Fichtenkamm Reisen - ECPv5.12.3//NONSGML v1.0//EN
CALSCALE:GREGORIAN
METHOD:PUBLISH
X-WR-CALNAME:Fichtenkamm Reisen
X-ORIGINAL-URL:https://fichtenkamm.de
X-WR-CALDESC:Veranstaltungen für Fichtenkamm Reisen
BEGIN:VTIMEZONE
TZID:Europe/Berlin
BEGIN:DAYLIGHT
TZOFFSETFROM:+0100
TZOFFSETTO:+0200
TZNAME:CEST
DTSTART:20220327T010000
END:DAYLIGHT
BEGIN:STANDARD
TZOFFSETFROM:+0200
TZOFFSETTO:+0100
TZNAME:CET
DTSTART:20221030T010000
END:STANDARD
END:VTIMEZONE
BEGIN:VEVENT
DTSTART;VALUE=DATE:20221129
DTEND;VALUE=DATE:20221204
DTSTAMP:20260423T211041
CREATED:20220228T084619Z
LAST-MODIFIED:20220621T143237Z
UID:12418-1669680000-1670111999@fichtenkamm.de
SUMMARY:1. Nikolausreise ins Lammertal
DESCRIPTION:Schon seit zwei Jahren warten unsere Gäste darauf\, endlich mal wieder bei unserer beliebten Nikolausreise dabei sein zu dürfen. Die Pandemie lies dies bisher leider nicht zu! Nachdem unsere Gäste bei der letzten Adventsreise von den stimmungsvollen Tagen in Südtirol begeistert waren\, möchten wir auch mit dieser Reise Ihren Wünschen gerecht werden.  \nWenn der Schnee sich sanft über die Berge des Salzburger Landes legt\, dann beginnt hier vor dem Fest eine ganz besondere Zeit. Erleben Sie den „weißen Zauber“ in seinen schönsten Facetten\, wenn während der Weihnachtszeit\, die stillste Zeit im Jahr\, hier noch richtig zelebriert wird. Ge­nie­ßen Sie die Region rundum Abtenau mit seiner traumhaften winterlichen Bergkulisse\, wie Sie sie in ganz Österreich nicht nochmals finden werden. Freuen Sie sich auf herrliche Rundfahrten\, wie zum Hochkönig mit majestätischem Panorama\, eine schö­­ne Schifffahrt und einige Über­raschun­gen in diesen Tagen zur Ad­vents­zeit. \nAnkommen\, durchatmen\, verwöhnen lassen\, lautet auch das Motto der Familie Gutjahr\, Ihre Gastgeber des gleichnamigen ****Hotels. Prachtvolle Natur in ihren wundervollsten alpinen Facetten direkt vor der Haustüre und im Innenbereich ein exklusiver Wellnesstempel für Körper\, Geist und Seele erwartet Sie. \nStimmen Sie sich gemeinsam mit uns auf Weihnachten ein. Eine Zeit\, die für Harmonie und Entspanntheit steht. Entfliehen Sie ihrem Alltag und genießen Sie unseren rundum Service im idyllischen Abtenau.
URL:https://fichtenkamm.de/reise/1-nikolausreise-ins-lammertal-3/
CATEGORIES:Hervorgehobene Reisen,Winter- & Silvesterreisen
ATTACH;FMTTYPE=image/jpeg:https://fichtenkamm.de/wp-content/uploads/2020/01/Nikolausreise-Lammertal_-68-Hotel.jpg
END:VEVENT
END:VCALENDAR